BEGIN:VCALENDAR
VERSION:2.0
PRODID:-//Varodd Velferdsteknologi - ECPv6.15.20//NONSGML v1.0//EN
CALSCALE:GREGORIAN
METHOD:PUBLISH
X-WR-CALNAME:Varodd Velferdsteknologi
X-ORIGINAL-URL:https://hjelpemidler.varodd.no
X-WR-CALDESC:Arrangement for Varodd Velferdsteknologi
REFRESH-INTERVAL;VALUE=DURATION:PT1H
X-Robots-Tag:noindex
X-PUBLISHED-TTL:PT1H
BEGIN:VTIMEZONE
TZID:Europe/Oslo
BEGIN:DAYLIGHT
TZOFFSETFROM:+0100
TZOFFSETTO:+0200
TZNAME:CEST
DTSTART:20250330T010000
END:DAYLIGHT
BEGIN:STANDARD
TZOFFSETFROM:+0200
TZOFFSETTO:+0100
TZNAME:CET
DTSTART:20251026T010000
END:STANDARD
BEGIN:DAYLIGHT
TZOFFSETFROM:+0100
TZOFFSETTO:+0200
TZNAME:CEST
DTSTART:20260329T010000
END:DAYLIGHT
BEGIN:STANDARD
TZOFFSETFROM:+0200
TZOFFSETTO:+0100
TZNAME:CET
DTSTART:20261025T010000
END:STANDARD
BEGIN:DAYLIGHT
TZOFFSETFROM:+0100
TZOFFSETTO:+0200
TZNAME:CEST
DTSTART:20270328T010000
END:DAYLIGHT
BEGIN:STANDARD
TZOFFSETFROM:+0200
TZOFFSETTO:+0100
TZNAME:CET
DTSTART:20271031T010000
END:STANDARD
END:VTIMEZONE
BEGIN:VEVENT
DTSTART;TZID=Europe/Oslo:20260423T100000
DTEND;TZID=Europe/Oslo:20260423T150000
DTSTAMP:20260423T014203
CREATED:20251008T124840Z
LAST-MODIFIED:20260228T145008Z
UID:10046-1776938400-1776956400@hjelpemidler.varodd.no
SUMMARY:Messe: Levanger
DESCRIPTION:Hva: Hjelpemiddelmessen vil ha ca. 40 utstillere innen aktivitet\, forflytning\, syn\, hørsel\, kommunikasjon (ASK)\, BPA m.m. \nNår: torsdag 23. april 2026 kl. 10-15 \nHvor: Trønderhallen\, Levanger Arena (Høgskolevegen 5\, 7600 Levanger) \nPris: gratis inngang \n 
URL:https://hjelpemidler.varodd.no/arrangement/messe-levanger-3/
LOCATION:Trønderhallen\, Høgskolevegen 5\, Levanger\, 7600\, Norge
CATEGORIES:Messe
ATTACH;FMTTYPE=image/png:https://d38vpb7vfo5r61.cloudfront.net/wp-content/uploads/2026/02/28154757/Levanger-hjelpemiddelmesse.png
END:VEVENT
END:VCALENDAR