BEGIN:VCALENDAR
VERSION:2.0
PRODID:-//Varodd Velferdsteknologi - ECPv6.15.20//NONSGML v1.0//EN
CALSCALE:GREGORIAN
METHOD:PUBLISH
X-ORIGINAL-URL:https://hjelpemidler.varodd.no
X-WR-CALDESC:Arrangement for Varodd Velferdsteknologi
REFRESH-INTERVAL;VALUE=DURATION:PT1H
X-Robots-Tag:noindex
X-PUBLISHED-TTL:PT1H
BEGIN:VTIMEZONE
TZID:Europe/Paris
BEGIN:DAYLIGHT
TZOFFSETFROM:+0100
TZOFFSETTO:+0200
TZNAME:CEST
DTSTART:20210328T010000
END:DAYLIGHT
BEGIN:STANDARD
TZOFFSETFROM:+0200
TZOFFSETTO:+0100
TZNAME:CET
DTSTART:20211031T010000
END:STANDARD
BEGIN:DAYLIGHT
TZOFFSETFROM:+0100
TZOFFSETTO:+0200
TZNAME:CEST
DTSTART:20220327T010000
END:DAYLIGHT
BEGIN:STANDARD
TZOFFSETFROM:+0200
TZOFFSETTO:+0100
TZNAME:CET
DTSTART:20221030T010000
END:STANDARD
BEGIN:DAYLIGHT
TZOFFSETFROM:+0100
TZOFFSETTO:+0200
TZNAME:CEST
DTSTART:20230326T010000
END:DAYLIGHT
BEGIN:STANDARD
TZOFFSETFROM:+0200
TZOFFSETTO:+0100
TZNAME:CET
DTSTART:20231029T010000
END:STANDARD
END:VTIMEZONE
BEGIN:VEVENT
DTSTART;TZID=Europe/Paris:20220121T160000
DTEND;TZID=Europe/Paris:20220121T170000
DTSTAMP:20260426T023548
CREATED:20220117T084908Z
LAST-MODIFIED:20220307T110722Z
UID:1818-1642780800-1642784400@hjelpemidler.varodd.no
SUMMARY:Produktvisning Bellavita personløfter
DESCRIPTION:Når brukeren har redusert evne til egenforflytning er Bellavita badekarmontert personløfter alle hjelpepleiere sin drøm! \nVisste du at i tillegg til å være meget stabil i høyeste posisjon\, så er Bellavita sin badekarmonterte personløfter den letteste i sin klasse? \nErgonomisk sete og rygg gir behagelig opplevelse til brukeren\, og den er dessuten meget enkel å både montere og demontere fra badekar. \nBatterikapasiteten holder inntil 6 badeøkter og du har hele tiden kontroll på ladestatus via håndkontrollen. Hvis det begynner å bli lite strøm vil løfteren automatisk heve bruker til høyest mulig stilling. \nSe vår produktvisning og få mulighet til å stille spørsmål! \nKlikk her for påmelding i popup\nKlikk her for påmelding i ny fane
URL:https://hjelpemidler.varodd.no/arrangement/produktvisning-bellavita-personlofter/
LOCATION:Microsoft Teams
CATEGORIES:Webinar
ATTACH;FMTTYPE=image/png:https://d38vpb7vfo5r61.cloudfront.net/wp-content/uploads/2022/01/26145958/vvt_webinar.png
END:VEVENT
END:VCALENDAR