BEGIN:VCALENDAR
VERSION:2.0
PRODID:-//Varodd Velferdsteknologi - ECPv6.15.20//NONSGML v1.0//EN
CALSCALE:GREGORIAN
METHOD:PUBLISH
X-ORIGINAL-URL:https://hjelpemidler.varodd.no
X-WR-CALDESC:Arrangement for Varodd Velferdsteknologi
REFRESH-INTERVAL;VALUE=DURATION:PT1H
X-Robots-Tag:noindex
X-PUBLISHED-TTL:PT1H
BEGIN:VTIMEZONE
TZID:Europe/Oslo
BEGIN:DAYLIGHT
TZOFFSETFROM:+0100
TZOFFSETTO:+0200
TZNAME:CEST
DTSTART:20210328T010000
END:DAYLIGHT
BEGIN:STANDARD
TZOFFSETFROM:+0200
TZOFFSETTO:+0100
TZNAME:CET
DTSTART:20211031T010000
END:STANDARD
BEGIN:DAYLIGHT
TZOFFSETFROM:+0100
TZOFFSETTO:+0200
TZNAME:CEST
DTSTART:20220327T010000
END:DAYLIGHT
BEGIN:STANDARD
TZOFFSETFROM:+0200
TZOFFSETTO:+0100
TZNAME:CET
DTSTART:20221030T010000
END:STANDARD
BEGIN:DAYLIGHT
TZOFFSETFROM:+0100
TZOFFSETTO:+0200
TZNAME:CEST
DTSTART:20230326T010000
END:DAYLIGHT
BEGIN:STANDARD
TZOFFSETFROM:+0200
TZOFFSETTO:+0100
TZNAME:CET
DTSTART:20231029T010000
END:STANDARD
END:VTIMEZONE
BEGIN:VEVENT
DTSTART;TZID=Europe/Oslo:20220809T090000
DTEND;TZID=Europe/Oslo:20220809T100000
DTSTAMP:20260425T153257
CREATED:20220703T164017Z
LAST-MODIFIED:20220808T092441Z
UID:4415-1660035600-1660039200@hjelpemidler.varodd.no
SUMMARY:Webinar: TurnAid T4
DESCRIPTION:Hva: Vi inviterer til webinar om TurnAid T4\, hvor du vil få et godt innblikk i hvordan vendesystemet kan lette pleie og forflytning. Mange steder blir forflytning sett på som en tidstyv. Med TurnAid kan én pleier i mange tilfeller utføre pleie og stell hvor man tidligere måtte være to. Ved å bruke fem minutter i stedet for ti\, så kan man spare inn mye. Vendingen foregår stille og rolig – uten tunge løft. Ved å kunne tilby pasienten gode og behagelige forflytninger\, kan ansatte kunne konsentrere seg mer om det faglige. \nNår: tirsdag 9. august 2022\, kl. 09:00 – 09:40 \nHvor: Teams-webinar (lenke sendes på e-post etter registrering) \nPris: gratis (åpen for publikum) \n  \nRegistrer meg \n  \n  \n\n  \nLes mer om produktet her:\n \nTurnAid T4 \n  \n\n  \nPraktisk informasjon:\nKurset vil foregå på Teams og vil vare i 40-45 minutter. Det er ikke nødvendig å ha Teams for å delta\, men vi anbefaler å bruke Chrome som nettleser. Lenke til kurset blir sendt på e-post til påmeldte deltakere. \n  \n\n  \nKurset vil foregå via Teams:\n\nDet blir ikke gjort opptak av dette kurset\nDitt navn vil være synlig for andre deltagere i kurset\nDu kan selv velge om du vil ha på bilde/lyd av deg selv\nIngen deltagere har lov til å gjøre opptak av kurset som holdes\n\n  \n\n  \nKursansvarlig:\n \n\nRuth Kirsti Stie\nSalgssjef\nruth.kirsti@varodd.no\n454 79 366\n\n 
URL:https://hjelpemidler.varodd.no/arrangement/webinar-turnaid-t4/
CATEGORIES:Webinar
ATTACH;FMTTYPE=image/png:https://d38vpb7vfo5r61.cloudfront.net/wp-content/uploads/2022/07/03183819/Webinar-TurnAid-T4-hos-Varodd-Velferdsteknologi.png
END:VEVENT
BEGIN:VEVENT
DTSTART;TZID=Europe/Oslo:20220809T100000
DTEND;TZID=Europe/Oslo:20220809T110000
DTSTAMP:20260425T153257
CREATED:20220703T161710Z
LAST-MODIFIED:20220809T114143Z
UID:4394-1660039200-1660042800@hjelpemidler.varodd.no
SUMMARY:Webinar: Hygienehjelpemidler
DESCRIPTION:Hva: 20.06.2022 tredde ny rammeavtale for hygienehjelpemidler i kraft. Varodd Velferdsteknologi leverer toalettstol\, dusj- og toalettstol\, dusjkrakk\, dusjvogn\, toalettløfter m.m. I den forbindelse arrangerer vi webinarer hvor vi demonstrerer disse hygienehjelpemidlene. \nNår: tirsdag 9. august 2022\, kl. 10:00-10:40 \nHvor: Teams-webinar (lenke sendes på e-post etter registrering) \nPris: gratis (åpen for publikum) \n  \nRegistrer meg \n  \n  \n\n  \nNoen av hjelpemidlene som vises:\n                  \n  \n\n  \nPraktisk informasjon:\nKurset vil foregå på Teams og vil vare i 40-45 minutter. Det er ikke nødvendig å ha Teams for å delta\, men vi anbefaler å bruke Chrome som nettleser. Lenke til kurset blir sendt på e-post til påmeldte deltakere. \n  \n\n  \nKurset vil foregå via Teams:\n\nDet blir ikke gjort opptak av dette kurset\nDitt navn vil være synlig for andre deltagere i kurset\nDu kan selv velge om du vil ha på bilde/lyd av deg selv\nIngen deltagere har lov til å gjøre opptak av kurset som holdes\n\n  \n\n  \nKursansvarlig:\n \n\nRuth Kirsti Stie\nSalgssjef\nruth.kirsti@varodd.no\n454 79 366\n\n 
URL:https://hjelpemidler.varodd.no/arrangement/webinar-hygienehjelpemidler/
CATEGORIES:Webinar
ATTACH;FMTTYPE=image/png:https://d38vpb7vfo5r61.cloudfront.net/wp-content/uploads/2022/06/30231252/Webinar-om-hygienehjelpemidler-pa-rammeavtale-fra-Varodd-Velferdsteknologi.png
END:VEVENT
END:VCALENDAR