BEGIN:VCALENDAR
VERSION:2.0
PRODID:-//Varodd Velferdsteknologi - ECPv6.15.20//NONSGML v1.0//EN
CALSCALE:GREGORIAN
METHOD:PUBLISH
X-ORIGINAL-URL:https://hjelpemidler.varodd.no
X-WR-CALDESC:Arrangement for Varodd Velferdsteknologi
REFRESH-INTERVAL;VALUE=DURATION:PT1H
X-Robots-Tag:noindex
X-PUBLISHED-TTL:PT1H
BEGIN:VTIMEZONE
TZID:Europe/Oslo
BEGIN:DAYLIGHT
TZOFFSETFROM:+0100
TZOFFSETTO:+0200
TZNAME:CEST
DTSTART:20240331T010000
END:DAYLIGHT
BEGIN:STANDARD
TZOFFSETFROM:+0200
TZOFFSETTO:+0100
TZNAME:CET
DTSTART:20241027T010000
END:STANDARD
BEGIN:DAYLIGHT
TZOFFSETFROM:+0100
TZOFFSETTO:+0200
TZNAME:CEST
DTSTART:20250330T010000
END:DAYLIGHT
BEGIN:STANDARD
TZOFFSETFROM:+0200
TZOFFSETTO:+0100
TZNAME:CET
DTSTART:20251026T010000
END:STANDARD
BEGIN:DAYLIGHT
TZOFFSETFROM:+0100
TZOFFSETTO:+0200
TZNAME:CEST
DTSTART:20260329T010000
END:DAYLIGHT
BEGIN:STANDARD
TZOFFSETFROM:+0200
TZOFFSETTO:+0100
TZNAME:CET
DTSTART:20261025T010000
END:STANDARD
END:VTIMEZONE
BEGIN:VEVENT
DTSTART;TZID=Europe/Oslo:20250219T083000
DTEND;TZID=Europe/Oslo:20250219T090000
DTSTAMP:20260423T142522
CREATED:20250206T083108Z
LAST-MODIFIED:20250207T065518Z
UID:8987-1739953800-1739955600@hjelpemidler.varodd.no
SUMMARY:Webinar: Opus 5 - tips og triks
DESCRIPTION:Hva: Vi inviterer deg til et spennende webinar der vi vil gi en grundig gjennomgang av Opus 5 og dens funksjoner. Dette er en flott mulighet til å lære mer\, stille spørsmål og se sengen i aksjon. Webinaret er laget for deg som ønsker å lære mer om hvordan sengen kan forbedre arbeidsmiljøet\, optimere arbeidsflyten og gjør pasientene mer motiverte og selvhjulpne. \nNår: onsdag 19. februar 2024\, kl. 8:30-9:00 \nHvor: Teams-webinar (lenke sendes på e-post etter registrering) \nPris: gratis (åpen for publikum) \n  \nMeld deg på her \n  \n  \n\n  \nI webinaret vil du lære om:\n✅ Betjening: personell og sengeliggende – hvem kan bruke hva?\n✅ Programmerte stillinger: hvilke funksjoner bør brukes – og når?\n✅ Sidetilt: hvordan bruke vendefunksjonen uten å vekke brukeren?\n✅ Utstigning i fotende: et rehabilteringstiltak – slik gjøres det riktig \n  \n\n  \nPraktisk informasjon:\nKurset vil foregå på Teams og vil vare i ca. 30 minutter. Det er ikke nødvendig å ha Teams for å delta\, men vi anbefaler å bruke Chrome som nettleser. Lenke til kurset blir sendt på e-post til påmeldte deltakere. \n  \n\n  \nKurset vil foregå via Teams:\n\nDet blir ikke gjort opptak av dette kurset\nDitt navn vil være synlig for andre deltagere i kurset\nDu kan selv velge om du vil ha på bilde/lyd av deg selv\nIngen deltagere har lov til å gjøre opptak av kurset som holdes\n\n  \n\n  \nKursansvarlig:\n \n\nRuth Kirsti Stie\nSalgs- og markedsdirektør\nruth.kirsti@varodd.no\n902 50 855\n\n 
URL:https://hjelpemidler.varodd.no/arrangement/webinar-opus-5-tips-og-triks/
CATEGORIES:Webinar
ATTACH;FMTTYPE=image/jpeg:https://d38vpb7vfo5r61.cloudfront.net/wp-content/uploads/2025/02/06092858/Webinar-februar-2025-Opus-5.jpg
END:VEVENT
END:VCALENDAR