BEGIN:VCALENDAR
VERSION:2.0
PRODID:-//Varodd Velferdsteknologi - ECPv6.15.20//NONSGML v1.0//EN
CALSCALE:GREGORIAN
METHOD:PUBLISH
X-WR-CALNAME:Varodd Velferdsteknologi
X-ORIGINAL-URL:https://hjelpemidler.varodd.no
X-WR-CALDESC:Arrangement for Varodd Velferdsteknologi
REFRESH-INTERVAL;VALUE=DURATION:PT1H
X-Robots-Tag:noindex
X-PUBLISHED-TTL:PT1H
BEGIN:VTIMEZONE
TZID:Europe/Oslo
BEGIN:DAYLIGHT
TZOFFSETFROM:+0100
TZOFFSETTO:+0200
TZNAME:CEST
DTSTART:20240331T010000
END:DAYLIGHT
BEGIN:STANDARD
TZOFFSETFROM:+0200
TZOFFSETTO:+0100
TZNAME:CET
DTSTART:20241027T010000
END:STANDARD
BEGIN:DAYLIGHT
TZOFFSETFROM:+0100
TZOFFSETTO:+0200
TZNAME:CEST
DTSTART:20250330T010000
END:DAYLIGHT
BEGIN:STANDARD
TZOFFSETFROM:+0200
TZOFFSETTO:+0100
TZNAME:CET
DTSTART:20251026T010000
END:STANDARD
BEGIN:DAYLIGHT
TZOFFSETFROM:+0100
TZOFFSETTO:+0200
TZNAME:CEST
DTSTART:20260329T010000
END:DAYLIGHT
BEGIN:STANDARD
TZOFFSETFROM:+0200
TZOFFSETTO:+0100
TZNAME:CET
DTSTART:20261025T010000
END:STANDARD
END:VTIMEZONE
BEGIN:VEVENT
DTSTART;TZID=Europe/Oslo:20250604T100000
DTEND;TZID=Europe/Oslo:20250604T160000
DTSTAMP:20260423T075833
CREATED:20250227T132737Z
LAST-MODIFIED:20250227T132737Z
UID:9093-1749031200-1749052800@hjelpemidler.varodd.no
SUMMARY:Messe: Førde
DESCRIPTION:Velkommen til Hjelpemiddelmessen Vestlandet 2025\nBli med på en spennende dag hvor du kan utforske ulike hjelpemidler for bl.a. bevegelse\, kommunikasjon\, syn og hørsel\n📅 Dato: onsdag 4. juni 2025\n⏰ Tid: Kl. 10:00–16:00\n📍 Sted: Førdehuset (Angedalsvegen 5\, 6800 Førde) \n  \nHva kan du oppleve?\n\nForedrag om forebygging av trykksår med Asle Sande kl. 13:00\nNAV Hjelpemiddelsentral vil også være til stede med egen stand\nEnkel bevertning for besøkende\nTrekning av 1 stk. Apple iPad\n\n  \nHvem passer messen for?\nMidt-Norsk Hjelpemiddelmesse 2025 er åpen for alle med interesse for hjelpemidler: \n\nSkole- og barnehageansatte\nHelsepersonell\nArbeidsgivere\nTeknikere\nBrukere\, pårørende og assistenter\n\n  \nLast ned invitasjon
URL:https://hjelpemidler.varodd.no/arrangement/messe-forde-2/
LOCATION:Førdehuset\, Angedalsvegen 5\, Førde\, 6800\, Norge
CATEGORIES:Webinar
ATTACH;FMTTYPE=image/jpeg:https://d38vpb7vfo5r61.cloudfront.net/wp-content/uploads/2025/02/27142655/Hjelpemiddelmessen-Vestlandet-2025.jpg
END:VEVENT
BEGIN:VEVENT
DTSTART;TZID=Europe/Oslo:20250611T090000
DTEND;TZID=Europe/Oslo:20250611T094500
DTSTAMP:20260423T075833
CREATED:20250527T105157Z
LAST-MODIFIED:20250527T111844Z
UID:9484-1749632400-1749635100@hjelpemidler.varodd.no
SUMMARY:Webinar: Orbit
DESCRIPTION:Vi presenterer vår nyeste innovasjon innen pleiesenger: Orbit – den individualiserbare rotasjonssengen.\n  \nHva: Orbit er utviklet for å gi brukere økt selvstendighet og samtidig forenkle arbeidet for pleiepersonell. Det som virkelig skiller denne sengen fra andre\, er dens unike evne til å tilpasses individuelt etter hver brukers behov. Dette bidrar ikke bare til økt komfort og frihet\, men også til en mer skånsom og effektiv pleiehverdag. \nNår: onsdag 11. juni 2025\, kl. 9:00-9:45 (ca. 45 min) \nHvor: Teams-webinar (lenke sendes på e-post etter registrering) \nPris: gratis (åpen for publikum) \n  \nMeld deg på her \n  \n  \n\n  \nHvem bør delta?\n✅ Kommunale ergoterapeuter og spesialrådgivere\n✅ NAV-ansatte som formidler senger og sengeutstyr\n✅ Beslutningstakere helse- og omsorgssektoren\n✅ Alle som ønsker mer kunnskap om tilpassede løsninger \n  \n\n  \nI webinaret vil du lære om:\n✅ Hvordan Orbit kan tilpasses individuelt etter brukerens høyde\, kroppsbygning og funksjonsnedsettelser\n✅ De unike funksjonene som gjør det enklere for brukere å komme inn og ut av sengen uten assistanse\n✅ Hvordan Orbit bidrar til et bedre arbeidsmiljø ved å redusere behovet for tunge løft og forflytninger for pleiepersonell \n  \n\n  \nPraktisk informasjon:\nKurset vil foregå på Teams og vil vare i ca. 45 minutter. Det er ikke nødvendig å ha Teams for å delta\, men vi anbefaler å bruke Chrome som nettleser. Lenke til kurset blir sendt på e-post til påmeldte deltakere. \n  \n\n  \nKurset vil foregå via Teams:\n\nDet blir ikke gjort opptak av dette kurset\nDitt navn vil være synlig for andre deltagere i kurset\nDu kan selv velge om du vil ha på bilde/lyd av deg selv\nIngen deltagere har lov til å gjøre opptak av kurset som holdes\n\n  \n\n  \nKursansvarlig:\n \n\nRuth Kirsti Stie\nSalgs- og markedsdirektør\nruth.kirsti@varodd.no\n902 50 855\n\n 
URL:https://hjelpemidler.varodd.no/arrangement/webinar-orbit/
CATEGORIES:Webinar
ATTACH;FMTTYPE=image/png:https://d38vpb7vfo5r61.cloudfront.net/wp-content/uploads/2025/05/27125122/Webinar-Orbit-rotasjonsseng-juni-2025.png
END:VEVENT
END:VCALENDAR