BEGIN:VCALENDAR
VERSION:2.0
PRODID:-//Varodd Velferdsteknologi - ECPv6.15.20//NONSGML v1.0//EN
CALSCALE:GREGORIAN
METHOD:PUBLISH
X-WR-CALNAME:Varodd Velferdsteknologi
X-ORIGINAL-URL:https://hjelpemidler.varodd.no
X-WR-CALDESC:Arrangement for Varodd Velferdsteknologi
REFRESH-INTERVAL;VALUE=DURATION:PT1H
X-Robots-Tag:noindex
X-PUBLISHED-TTL:PT1H
BEGIN:VTIMEZONE
TZID:Europe/Oslo
BEGIN:DAYLIGHT
TZOFFSETFROM:+0100
TZOFFSETTO:+0200
TZNAME:CEST
DTSTART:20240331T010000
END:DAYLIGHT
BEGIN:STANDARD
TZOFFSETFROM:+0200
TZOFFSETTO:+0100
TZNAME:CET
DTSTART:20241027T010000
END:STANDARD
BEGIN:DAYLIGHT
TZOFFSETFROM:+0100
TZOFFSETTO:+0200
TZNAME:CEST
DTSTART:20250330T010000
END:DAYLIGHT
BEGIN:STANDARD
TZOFFSETFROM:+0200
TZOFFSETTO:+0100
TZNAME:CET
DTSTART:20251026T010000
END:STANDARD
BEGIN:DAYLIGHT
TZOFFSETFROM:+0100
TZOFFSETTO:+0200
TZNAME:CEST
DTSTART:20260329T010000
END:DAYLIGHT
BEGIN:STANDARD
TZOFFSETFROM:+0200
TZOFFSETTO:+0100
TZNAME:CET
DTSTART:20261025T010000
END:STANDARD
END:VTIMEZONE
BEGIN:VEVENT
DTSTART;TZID=Europe/Oslo:20250901T130000
DTEND;TZID=Europe/Oslo:20250901T140000
DTSTAMP:20260423T030454
CREATED:20250616T122440Z
LAST-MODIFIED:20250820T100248Z
UID:9632-1756731600-1756735200@hjelpemidler.varodd.no
SUMMARY:Webinar: Hygienehjelpemidler på rammeavtale
DESCRIPTION:Den nye rammeavtalen hos NAV for hygienehjelpemidler trer i kraft 1. september 2025. Varodd Velferdsteknologi leverer et bredt utvalg av produkter\, inkludert badestoler\, dusj- og toalettstoler\, dusjvogner og toalettløftere. \nHva: Vi inviterer til produktdemo av de ulike hjelpemidlene inkl. tilbehør på rammeavtale. Det er satt opp to dager med likt innhold slik at du kan velge hvilket tidspunkt som passer best for deg å delta på. Vi anbefaler at deltakerne gjør seg kjent med den nye rammeavtalen i forkant. Informasjon om avtalen er tilgjengelig på Finnhjelpemiddel. \nNår: mandag 1. september 2025\, kl. 13:00-14:00 \nHvor: Teams-webinar (lenke sendes på e-post etter påmelding) \nOpptak: webinaret sendes direkte og blir ikke tatt opp \n  \nMeld deg på her \n  \n\n  \nHjelpemidlene som vises: \n✅ DK 02 | DuoMotion 5” | dusj- og toalettstol\n✅ DK 05 | M2 Multi-Tip | elektrisk dusj- og toalettstol\n✅ DK 10 | Otter | badestol\n✅ DK 11 | BES 120 | badekarsete\n✅ DK 16 | Shado | dusjvogn\n✅ DK 21 og 23 | Aerolet | toalettløfter med elektrisk skråløft\n✅ DK 22 | Aerolet | toalettløfter med elektrisk rettløft \n  \nKurset vil foregå via Teams: \n\nDet blir ikke gjort opptak av dette kurset\nDitt navn vil være synlig for andre deltagere i kurset\nDu kan selv velge om du vil ha på bilde/lyd av deg selv\nIngen deltagere har lov til å gjøre opptak av kurset som holdes
URL:https://hjelpemidler.varodd.no/arrangement/webinar-hygienehjelpemidler-pa-rammeavtale-2/
CATEGORIES:Webinar
ATTACH;FMTTYPE=image/png:https://d38vpb7vfo5r61.cloudfront.net/wp-content/uploads/2025/06/16133958/01.09.2025-webinar-banner-hygienehjelpemidler.png
END:VEVENT
BEGIN:VEVENT
DTSTART;TZID=Europe/Oslo:20250903T080000
DTEND;TZID=Europe/Oslo:20250903T090000
DTSTAMP:20260423T030454
CREATED:20250616T122505Z
LAST-MODIFIED:20250812T064104Z
UID:9633-1756886400-1756890000@hjelpemidler.varodd.no
SUMMARY:Webinar: Hygienehjelpemidler på rammeavtale
DESCRIPTION:Den nye rammeavtalen hos NAV for hygienehjelpemidler trer i kraft 1. september 2025. Varodd Velferdsteknologi leverer et bredt utvalg av produkter\, inkludert badestoler\, dusj- og toalettstoler\, dusjvogner og toalettløftere. \nHva: Vi inviterer til produktdemo av de ulike hjelpemidlene inkl. tilbehør på rammeavtale. Det er satt opp to dager med likt innhold slik at du kan velge hvilket tidspunkt som passer best for deg å delta på. Vi anbefaler at deltakerne gjør seg kjent med den nye rammeavtalen i forkant. Informasjon om avtalen er tilgjengelig på Finnhjelpemiddel. \nNår: onsdag 3. september 2025\, kl. 8:00-9:00 \nHvor: Teams-webinar (lenke sendes på e-post etter påmelding) \nOpptak: webinaret sendes direkte og blir ikke tatt opp \n  \nMeld deg på her \n  \n\n  \nHjelpemidlene som vises: \n✅ DK 02 | DuoMotion 5” | dusj- og toalettstol\n✅ DK 05 | M2 Multi-Tip | elektrisk dusj- og toalettstol\n✅ DK 10 | Otter | badestol\n✅ DK 11 | BES 120 | badekarsete\n✅ DK 16 | Shado | dusjvogn\n✅ DK 21 og 23 | Aerolet | toalettløfter med elektrisk skråløft\n✅ DK 22 | Aerolet | toalettløfter med elektrisk rettløft \n  \nKurset vil foregå via Teams: \n\nDet blir ikke gjort opptak av dette kurset\nDitt navn vil være synlig for andre deltagere i kurset\nDu kan selv velge om du vil ha på bilde/lyd av deg selv\nIngen deltagere har lov til å gjøre opptak av kurset som holdes
URL:https://hjelpemidler.varodd.no/arrangement/webinar-hygienehjelpemidler-pa-rammeavtale-3/
CATEGORIES:Webinar
ATTACH;FMTTYPE=image/png:https://d38vpb7vfo5r61.cloudfront.net/wp-content/uploads/2025/06/16134008/03.09.2025-webinar-banner-hygienehjelpemidler.png
END:VEVENT
END:VCALENDAR