BEGIN:VCALENDAR
VERSION:2.0
PRODID:-//Varodd Velferdsteknologi - ECPv6.15.20//NONSGML v1.0//EN
CALSCALE:GREGORIAN
METHOD:PUBLISH
X-ORIGINAL-URL:https://hjelpemidler.varodd.no
X-WR-CALDESC:Arrangement for Varodd Velferdsteknologi
REFRESH-INTERVAL;VALUE=DURATION:PT1H
X-Robots-Tag:noindex
X-PUBLISHED-TTL:PT1H
BEGIN:VTIMEZONE
TZID:Europe/Oslo
BEGIN:DAYLIGHT
TZOFFSETFROM:+0100
TZOFFSETTO:+0200
TZNAME:CEST
DTSTART:20210328T010000
END:DAYLIGHT
BEGIN:STANDARD
TZOFFSETFROM:+0200
TZOFFSETTO:+0100
TZNAME:CET
DTSTART:20211031T010000
END:STANDARD
BEGIN:DAYLIGHT
TZOFFSETFROM:+0100
TZOFFSETTO:+0200
TZNAME:CEST
DTSTART:20220327T010000
END:DAYLIGHT
BEGIN:STANDARD
TZOFFSETFROM:+0200
TZOFFSETTO:+0100
TZNAME:CET
DTSTART:20221030T010000
END:STANDARD
BEGIN:DAYLIGHT
TZOFFSETFROM:+0100
TZOFFSETTO:+0200
TZNAME:CEST
DTSTART:20230326T010000
END:DAYLIGHT
BEGIN:STANDARD
TZOFFSETFROM:+0200
TZOFFSETTO:+0100
TZNAME:CET
DTSTART:20231029T010000
END:STANDARD
END:VTIMEZONE
BEGIN:VTIMEZONE
TZID:Europe/Paris
BEGIN:DAYLIGHT
TZOFFSETFROM:+0100
TZOFFSETTO:+0200
TZNAME:CEST
DTSTART:20210328T010000
END:DAYLIGHT
BEGIN:STANDARD
TZOFFSETFROM:+0200
TZOFFSETTO:+0100
TZNAME:CET
DTSTART:20211031T010000
END:STANDARD
BEGIN:DAYLIGHT
TZOFFSETFROM:+0100
TZOFFSETTO:+0200
TZNAME:CEST
DTSTART:20220327T010000
END:DAYLIGHT
BEGIN:STANDARD
TZOFFSETFROM:+0200
TZOFFSETTO:+0100
TZNAME:CET
DTSTART:20221030T010000
END:STANDARD
BEGIN:DAYLIGHT
TZOFFSETFROM:+0100
TZOFFSETTO:+0200
TZNAME:CEST
DTSTART:20230326T010000
END:DAYLIGHT
BEGIN:STANDARD
TZOFFSETFROM:+0200
TZOFFSETTO:+0100
TZNAME:CET
DTSTART:20231029T010000
END:STANDARD
END:VTIMEZONE
BEGIN:VEVENT
DTSTART;TZID=Europe/Oslo:20220406T100000
DTEND;TZID=Europe/Oslo:20220406T140000
DTSTAMP:20260425T053354
CREATED:20220303T101730Z
LAST-MODIFIED:20220307T105802Z
UID:3034-1649239200-1649253600@hjelpemidler.varodd.no
SUMMARY:Minimesse: Biri
DESCRIPTION:
URL:https://hjelpemidler.varodd.no/arrangement/minimesse-biri/
LOCATION:Biri travbane\, Paradisvegen 7\, Biri\, 2836\, Norge
CATEGORIES:Messe
END:VEVENT
BEGIN:VEVENT
DTSTART;TZID=Europe/Oslo:20220420T100000
DTEND;TZID=Europe/Oslo:20220420T140000
DTSTAMP:20260425T053354
CREATED:20220303T103130Z
LAST-MODIFIED:20220307T105629Z
UID:3038-1650448800-1650463200@hjelpemidler.varodd.no
SUMMARY:Minimesse: Vinstra
DESCRIPTION:
URL:https://hjelpemidler.varodd.no/arrangement/minimesse-vinstra/
LOCATION:Peer Gynt Hotel and Spiseri\, Rustveien 81\, Vinstra\, 2640\, Norge
CATEGORIES:Messe
END:VEVENT
BEGIN:VEVENT
DTSTART;TZID=Europe/Paris:20220427T100000
DTEND;TZID=Europe/Paris:20220427T150000
DTSTAMP:20260425T053354
CREATED:20220112T211044Z
LAST-MODIFIED:20220427T093316Z
UID:1682-1651053600-1651071600@hjelpemidler.varodd.no
SUMMARY:Messe: Haugalandet
DESCRIPTION:Foto: Privat. \n  \nHva: Årets hjelpemiddelmesse i Haugalandet går av stabelen 27. april i Tysvær Arena. Messen arrangeres på vegne av ledende leverandører innen tekniske hjelpemidler. Hvert år presenteres hjelpemidler innen en rekke områder\, blant annet bevegelseshjelpemidler\, løft og forflytning\, hygiene\, IKT og syn og hørsel. Det blir også trekning av premier – velkommen til en innholdsrik dag! \nNår: onsdag 27. april 2022\, kl. 10:00-15:00 \nHvor: Tysvær Arena (Hamrane 5B\, 5563 Førresfjorden) \nPris: gratis inngang \n  \nLast ned invitasjon \n  \n\n  \nMeld deg på fellesvisning med Varodd Velferdsteknologi her:\n\n 
URL:https://hjelpemidler.varodd.no/arrangement/messe-haugesund/
LOCATION:Tysvær Arena\, Hamrane 5B\, Førresfjorden\, 5563\, Norge
CATEGORIES:Messe
ATTACH;FMTTYPE=image/png:https://d38vpb7vfo5r61.cloudfront.net/wp-content/uploads/2022/01/27112035/Hjelpemiddelmesse-i-Haugesund.png
END:VEVENT
BEGIN:VEVENT
DTSTART;TZID=Europe/Paris:20220428T100000
DTEND;TZID=Europe/Paris:20220428T150000
DTSTAMP:20260425T053354
CREATED:20220112T211158Z
LAST-MODIFIED:20220428T085939Z
UID:1684-1651140000-1651158000@hjelpemidler.varodd.no
SUMMARY:Messe: Stavanger
DESCRIPTION:Foto: privat \n  \nHva: Årets hjelpemiddelmesse i Stavanger går av stabelen 28. april på Forum Expo. Messen arrangeres på vegne av ledende leverandører innen tekniske hjelpemidler. Hvert år presenteres hjelpemidler innen en rekke områder\, blant annet bevegelseshjelpemidler\, løft og forflytning\, hygiene\, IKT og syn og hørsel. Det blir også trekning av premier – velkommen til en innholdsrik dag! \nNår: torsdag 28. april 2022\, kl. 10:00-15:00 \nHvor: Forum Expo (Gunnar Warebergsgate 13\, Stavanger) \nPris: gratis inngang \n  \nLast ned invitasjon \n  \n\n  \nMeld deg på fellesvisning med Varodd Velferdsteknologi her:\n\n  \n  \n\n  \nNoen av hjelpemidlene som vises på messen:\n                  \n  \n 
URL:https://hjelpemidler.varodd.no/arrangement/messe-stavanger/
LOCATION:Forum Expo\, Ishockeyveien 11\, Stavanger\, 4021\, Norge
CATEGORIES:Messe
ATTACH;FMTTYPE=image/png:https://d38vpb7vfo5r61.cloudfront.net/wp-content/uploads/2022/01/28102142/Hjelpemiddelmesse-stavanger.png
END:VEVENT
END:VCALENDAR