BEGIN:VCALENDAR
VERSION:2.0
PRODID:-//Varodd Velferdsteknologi - ECPv6.15.20//NONSGML v1.0//EN
CALSCALE:GREGORIAN
METHOD:PUBLISH
X-WR-CALNAME:Varodd Velferdsteknologi
X-ORIGINAL-URL:https://hjelpemidler.varodd.no
X-WR-CALDESC:Arrangement for Varodd Velferdsteknologi
REFRESH-INTERVAL;VALUE=DURATION:PT1H
X-Robots-Tag:noindex
X-PUBLISHED-TTL:PT1H
BEGIN:VTIMEZONE
TZID:Europe/Oslo
BEGIN:DAYLIGHT
TZOFFSETFROM:+0100
TZOFFSETTO:+0200
TZNAME:CEST
DTSTART:20210328T010000
END:DAYLIGHT
BEGIN:STANDARD
TZOFFSETFROM:+0200
TZOFFSETTO:+0100
TZNAME:CET
DTSTART:20211031T010000
END:STANDARD
BEGIN:DAYLIGHT
TZOFFSETFROM:+0100
TZOFFSETTO:+0200
TZNAME:CEST
DTSTART:20220327T010000
END:DAYLIGHT
BEGIN:STANDARD
TZOFFSETFROM:+0200
TZOFFSETTO:+0100
TZNAME:CET
DTSTART:20221030T010000
END:STANDARD
BEGIN:DAYLIGHT
TZOFFSETFROM:+0100
TZOFFSETTO:+0200
TZNAME:CEST
DTSTART:20230326T010000
END:DAYLIGHT
BEGIN:STANDARD
TZOFFSETFROM:+0200
TZOFFSETTO:+0100
TZNAME:CET
DTSTART:20231029T010000
END:STANDARD
END:VTIMEZONE
BEGIN:VEVENT
DTSTART;TZID=Europe/Oslo:20221101T090000
DTEND;TZID=Europe/Oslo:20221101T093000
DTSTAMP:20260424T180154
CREATED:20221013T113321Z
LAST-MODIFIED:20221213T072623Z
UID:5207-1667293200-1667295000@hjelpemidler.varodd.no
SUMMARY:Webinar: Careturner
DESCRIPTION:Hva: Visning av vendesystemet Careturner. Webinaret er rettet mot deg som jobber med risikovurdering av trykksår og arbeidsmiljø. \nNår: tirsdag 1. november 2022\, kl. 09:00-09:30 \nHvor: Teams-webinar (lenke sendes på e-post etter registrering) \nPris: gratis (åpen for publikum) \n  \nRegistrer meg \n  \n  \n\n  \nLes mer om vendesystemet her her:\n \n  \n\n  \nPraktisk informasjon:\nKurset vil foregå på Teams og vil vare i 20-30 minutter. Det er ikke nødvendig å ha Teams for å delta\, men vi anbefaler å bruke Chrome som nettleser. Lenke til kurset blir sendt på e-post til påmeldte deltakere. \n  \n\n  \nKurset vil foregå via Teams:\n\nDet blir ikke gjort opptak av dette kurset\nDitt navn vil være synlig for andre deltagere i kurset\nDu kan selv velge om du vil ha på bilde/lyd av deg selv\nIngen deltagere har lov til å gjøre opptak av kurset som holdes\n\n  \n\n  \nKursansvarlig:\n \n\nRuth Kirsti Stie\nSalgssjef\nruth.kirsti@varodd.no\n454 79 366
URL:https://hjelpemidler.varodd.no/arrangement/webinar-careturner/
LOCATION:Ulset
CATEGORIES:Webinar
END:VEVENT
BEGIN:VEVENT
DTSTART;TZID=Europe/Oslo:20221114T093000
DTEND;TZID=Europe/Oslo:20221114T143000
DTSTAMP:20260424T180154
CREATED:20221011T083403Z
LAST-MODIFIED:20221011T083403Z
UID:5176-1668418200-1668436200@hjelpemidler.varodd.no
SUMMARY:Messe: Oslo
DESCRIPTION:Hva: Alu Rehab\, Hjelpemiddelspesialisten\, Arcus Vita\, Cantec\, Øvrebø Rehab\, Varodd Velferdsteknologi\, Eurovema og Hepro går sammen om felles visningsdager for å gi deg mulighet til å få oppdatert deg på hva markedet tilbyr. I tillegg til faglig påfyll spanderer vi lunsj. Kom å få en hyggelig stund sammen med andre på ditt fagområde. \nNår: mandag 14. november 2022\, kl. 09.30-14.30 \nHvor: Hotel 33 (Østre Aker vei 33\, 0581 Oslo) \nPåmelding: Pga. bevertning må vi vite hvor mange som skal ha lunsj\, gi beskjed på e-post til: jis@hepro.no innen torsdag 3. november. \n  \nLast ned invitasjon
URL:https://hjelpemidler.varodd.no/arrangement/messe-oslo-2/
LOCATION:Hotell 33\, Østre Aker vei 33\, Oslo\, 0581\, Norge
CATEGORIES:Messe
END:VEVENT
BEGIN:VEVENT
DTSTART;TZID=Europe/Oslo:20221115T093000
DTEND;TZID=Europe/Oslo:20221115T143000
DTSTAMP:20260424T180154
CREATED:20221011T084034Z
LAST-MODIFIED:20221011T084414Z
UID:5181-1668504600-1668522600@hjelpemidler.varodd.no
SUMMARY:Messe: Sandvika
DESCRIPTION:Hva: Alu Rehab\, Hjelpemiddelspesialisten\, Arcus Vita\, Cantec\, Øvrebø Rehab\, Varodd Velferdsteknologi\, Eurovema og Hepro går sammen om felles visningsdager for å gi deg mulighet til å få oppdatert deg på hva markedet tilbyr. I tillegg til faglig påfyll spanderer vi lunsj. Kom å få en hyggelig stund sammen med andre på ditt fagområde. \nNår: tirsdag 15. november 2022\, kl. 09.30-14.30 \nHvor: Thon hotell Oslofjord (Sandviksveien 184\, 1337 Sandvika) \nPåmelding: Pga. bevertning må vi vite hvor mange som skal ha lunsj\, gi beskjed på e-post til: jis@hepro.no innen torsdag 3. november. \n  \nLast ned invitasjon
URL:https://hjelpemidler.varodd.no/arrangement/messe-sandvika/
LOCATION:Thon hotell Oslofjord\, Sandviksveien 184\, Sandvika\, 1337\, Norge
CATEGORIES:Messe
END:VEVENT
BEGIN:VEVENT
DTSTART;TZID=Europe/Oslo:20221116T093000
DTEND;TZID=Europe/Oslo:20221116T143000
DTSTAMP:20260424T180154
CREATED:20221011T084531Z
LAST-MODIFIED:20221011T084551Z
UID:5185-1668591000-1668609000@hjelpemidler.varodd.no
SUMMARY:Messe: Sarpsborg
DESCRIPTION:Hva: Alu Rehab\, Hjelpemiddelspesialisten\, Arcus Vita\, Cantec\, Øvrebø Rehab\, Varodd Velferdsteknologi\, Eurovema og Hepro går sammen om felles visningsdager for å gi deg mulighet til å få oppdatert deg på hva markedet tilbyr. I tillegg til faglig påfyll spanderer vi lunsj. Kom å få en hyggelig stund sammen med andre på ditt fagområde. \nNår: onsdag 16. november 2022\, kl. 09.30-14.30 \nHvor: Quality Hotel Sarpsborg (Bjørnstadveien 12\, 1712 Grålum) \nPåmelding: Pga. bevertning må vi vite hvor mange som skal ha lunsj\, gi beskjed på e-post til: jis@hepro.no innen torsdag 3. november. \n  \nLast ned invitasjon
URL:https://hjelpemidler.varodd.no/arrangement/messe-sarpsborg/
LOCATION:Quality Hotel Sarpsborg\, Bjørnstadveien 12\, Grålum\, 1712\, Norge
CATEGORIES:Messe
END:VEVENT
BEGIN:VEVENT
DTSTART;TZID=Europe/Oslo:20221122T100000
DTEND;TZID=Europe/Oslo:20221122T140000
DTSTAMP:20260424T180154
CREATED:20221012T125904Z
LAST-MODIFIED:20221017T065418Z
UID:5201-1669111200-1669125600@hjelpemidler.varodd.no
SUMMARY:Messe: Porsgrunn
DESCRIPTION:Hva: Flere leverandører i Telemark går nå sammen om å lage en felles fagdag med produktgjennomgang av tekniske hjelpemidler. Her får du anledning til å se hjelpemidlene\, prøve de ut og snakke med erfarne fagkonsulenter. Vi ønsker terapeuter\, hjelpemiddelteknikere\, helsepersonell eller andre interesserte hjertelig velkommen til en hyggelig dag sammen med oss! \nNår: tirsdag 22. november 2022\, kl. 10-14 \nHvor: Kafé K (Storgata 174 C\, 3915 Porsgrunn) \nPåmelding: Pga. bevertning må vi vite hvor mange som skal ha lunsj\, gi beskjed på e-post til tejohans@invacare.com innen torsdag 10. november. \n  \nLast ned invitasjon
URL:https://hjelpemidler.varodd.no/arrangement/messe-porsgrunn/
LOCATION:Kafe K\, Storgata 174 C\, Porsgrunn\, 3915\, Norge
CATEGORIES:Messe
END:VEVENT
BEGIN:VEVENT
DTSTART;TZID=Europe/Oslo:20221124T090000
DTEND;TZID=Europe/Oslo:20221124T150000
DTSTAMP:20260424T180154
CREATED:20221014T074309Z
LAST-MODIFIED:20221014T074309Z
UID:5212-1669280400-1669302000@hjelpemidler.varodd.no
SUMMARY:Messe: Beitostølen
DESCRIPTION:Hva: Vi ønsker deg velkommen til en innholdsrik dag på hjelpemiddelmesse. Møt mange dyktige utstillere som viser deg siste nytt innen hjelpemidler og gir deg faglige råd. \nNår: torsdag 24.november kl. 09-15 \nHvor: Beitostølen Helsesportsenter (Sentervegen 4 Beitostølen\, 2953) \nPris: Gratis inngang. Messen er åpen for alle
URL:https://hjelpemidler.varodd.no/arrangement/messe-beitostolen/
LOCATION:Beitostølen Helsesportsenter\, Sentervegen 4\, Beitostølen\, 2953\, Norge
CATEGORIES:Messe
END:VEVENT
BEGIN:VEVENT
DTSTART;TZID=Europe/Oslo:20221129T093000
DTEND;TZID=Europe/Oslo:20221129T143000
DTSTAMP:20260424T180154
CREATED:20221031T071226Z
LAST-MODIFIED:20221031T071226Z
UID:5294-1669714200-1669732200@hjelpemidler.varodd.no
SUMMARY:Messe: Nauen
DESCRIPTION:Hva: Utstyrsleverandørene er samlet\, og du kan se og prøve mange hjelpemidler på kort tid. I tillegg til faglig oppdatering og påfyll spanderer vi julelunsj kl. 12.00. \nNår: tirsdag 29. november\, kl. 09.30 – 14.30 \nHvor: Nauen klokkemuseum (Åshaugveien 168\, 3157 Barkåker) \nPåmelding: Av hensyn til serveringen vil vi gjerne ha påmelding via denne lenken innen torsdag 24. november. \nGave: Ved ankomst mottar du et deltakerark. De som ved kvittering på arket kan dokumentere å ha besøkt alle firmaene\, deltar i trekningen av en førjulsgave. \n  \nLast ned invitasjon
URL:https://hjelpemidler.varodd.no/arrangement/messe-nauen/
LOCATION:Nauen klokkemuseum\, Åshaugveien 168\, Barkåker\, 3157\, Norge
END:VEVENT
BEGIN:VEVENT
DTSTART;TZID=Europe/Oslo:20221130T093000
DTEND;TZID=Europe/Oslo:20221130T143000
DTSTAMP:20260424T180154
CREATED:20221026T065753Z
LAST-MODIFIED:20221026T065753Z
UID:5270-1669800600-1669818600@hjelpemidler.varodd.no
SUMMARY:Messe: Vestfossen
DESCRIPTION:Hva: Vi ønsker deg velkommen til en innholdsrik dag på hjelpemiddelmesse. Møt mange dyktige utstillere som viser deg siste nytt innen hjelpemidler og gir deg faglige råd. I tillegg til faglig påfyll spanderer vi julelunsj kl. 12.00. \nNår: onsdag 30. november kl. 09.30-14.30 \nHvor: Fossesholm Herregård (Fossgata\, 3320 Vestfossen) \nGave: Ved ankomst mottar du et deltakerark. De som ved kvittering på arket kan dokumentere å ha besøkt alle firmaene\, deltar i trekning av en førjulsgave. \nPåmelding: Av hensyn til serveringen vil vi gjerne ha påmelding senest mandag 21. november 2022 til marit.bergstrom@ovrebo.no eller til 32 24 42 50. \n  \nLast ned invitasjon
URL:https://hjelpemidler.varodd.no/arrangement/messe-vestfossen/
LOCATION:Fossesholm Herregård\, Fossgata 49\, Vestfossen\, 3320\, Norge
CATEGORIES:Messe
END:VEVENT
END:VCALENDAR