BEGIN:VCALENDAR
VERSION:2.0
PRODID:-//Varodd Velferdsteknologi - ECPv6.15.20//NONSGML v1.0//EN
CALSCALE:GREGORIAN
METHOD:PUBLISH
X-WR-CALNAME:Varodd Velferdsteknologi
X-ORIGINAL-URL:https://hjelpemidler.varodd.no
X-WR-CALDESC:Arrangement for Varodd Velferdsteknologi
REFRESH-INTERVAL;VALUE=DURATION:PT1H
X-Robots-Tag:noindex
X-PUBLISHED-TTL:PT1H
BEGIN:VTIMEZONE
TZID:Europe/Oslo
BEGIN:DAYLIGHT
TZOFFSETFROM:+0100
TZOFFSETTO:+0200
TZNAME:CEST
DTSTART:20220327T010000
END:DAYLIGHT
BEGIN:STANDARD
TZOFFSETFROM:+0200
TZOFFSETTO:+0100
TZNAME:CET
DTSTART:20221030T010000
END:STANDARD
BEGIN:DAYLIGHT
TZOFFSETFROM:+0100
TZOFFSETTO:+0200
TZNAME:CEST
DTSTART:20230326T010000
END:DAYLIGHT
BEGIN:STANDARD
TZOFFSETFROM:+0200
TZOFFSETTO:+0100
TZNAME:CET
DTSTART:20231029T010000
END:STANDARD
BEGIN:DAYLIGHT
TZOFFSETFROM:+0100
TZOFFSETTO:+0200
TZNAME:CEST
DTSTART:20240331T010000
END:DAYLIGHT
BEGIN:STANDARD
TZOFFSETFROM:+0200
TZOFFSETTO:+0100
TZNAME:CET
DTSTART:20241027T010000
END:STANDARD
END:VTIMEZONE
BEGIN:VEVENT
DTSTART;TZID=Europe/Oslo:20230124T090000
DTEND;TZID=Europe/Oslo:20230124T094500
DTSTAMP:20260424T143209
CREATED:20230110T104518Z
LAST-MODIFIED:20230110T104849Z
UID:5831-1674550800-1674553500@hjelpemidler.varodd.no
SUMMARY:Webinar: Hygienehjelpemidler
DESCRIPTION:Hva: Vi starter det nye året med en gjennomgang av Aerolet\, et produkt vi får mange henvendelser på. I dette webinaret vil vi komme innom produktinfo\, prosjektering og montering samt lover og regler i henhold til våtrom. Vi vil også ta en kort gjennomgang av dusjkrakk 200 kg og NL dusj- og toalettstol. \nNår: tirsdag 24. januar 2023\, kl. 09:00-09:45 \nHvor: Teams-webinar (lenke sendes på e-post etter registrering) \nPris: gratis (åpen for publikum) \n  \nRegistrer meg \n  \n  \n\n  \nNoen av hjelpemidlene som vises:\n                  \n  \n\n  \nPraktisk informasjon:\nKurset vil foregå på Teams og vil vare i 40-45 minutter. Det er ikke nødvendig å ha Teams for å delta\, men vi anbefaler å bruke Chrome som nettleser. Lenke til kurset blir sendt på e-post til påmeldte deltakere. \n  \n\n  \nKurset vil foregå via Teams:\n\nDet blir ikke gjort opptak av dette kurset\nDitt navn vil være synlig for andre deltagere i kurset\nDu kan selv velge om du vil ha på bilde/lyd av deg selv\nIngen deltagere har lov til å gjøre opptak av kurset som holdes
URL:https://hjelpemidler.varodd.no/arrangement/webinar-hygienehjelpemidler-2/
LOCATION:Ulset
CATEGORIES:Webinar
ATTACH;FMTTYPE=image/jpeg:https://d38vpb7vfo5r61.cloudfront.net/wp-content/uploads/2023/01/10112843/Webinar-hygienehjelpemidler-varodd-velferdsteknologi.jpg
END:VEVENT
END:VCALENDAR