BEGIN:VCALENDAR
VERSION:2.0
PRODID:-//Varodd Velferdsteknologi - ECPv6.15.20//NONSGML v1.0//EN
CALSCALE:GREGORIAN
METHOD:PUBLISH
X-WR-CALNAME:Varodd Velferdsteknologi
X-ORIGINAL-URL:https://hjelpemidler.varodd.no
X-WR-CALDESC:Arrangement for Varodd Velferdsteknologi
REFRESH-INTERVAL;VALUE=DURATION:PT1H
X-Robots-Tag:noindex
X-PUBLISHED-TTL:PT1H
BEGIN:VTIMEZONE
TZID:Europe/Oslo
BEGIN:DAYLIGHT
TZOFFSETFROM:+0100
TZOFFSETTO:+0200
TZNAME:CEST
DTSTART:20220327T010000
END:DAYLIGHT
BEGIN:STANDARD
TZOFFSETFROM:+0200
TZOFFSETTO:+0100
TZNAME:CET
DTSTART:20221030T010000
END:STANDARD
BEGIN:DAYLIGHT
TZOFFSETFROM:+0100
TZOFFSETTO:+0200
TZNAME:CEST
DTSTART:20230326T010000
END:DAYLIGHT
BEGIN:STANDARD
TZOFFSETFROM:+0200
TZOFFSETTO:+0100
TZNAME:CET
DTSTART:20231029T010000
END:STANDARD
BEGIN:DAYLIGHT
TZOFFSETFROM:+0100
TZOFFSETTO:+0200
TZNAME:CEST
DTSTART:20240331T010000
END:DAYLIGHT
BEGIN:STANDARD
TZOFFSETFROM:+0200
TZOFFSETTO:+0100
TZNAME:CET
DTSTART:20241027T010000
END:STANDARD
END:VTIMEZONE
BEGIN:VEVENT
DTSTART;TZID=Europe/Oslo:20230216T090000
DTEND;TZID=Europe/Oslo:20230216T094500
DTSTAMP:20260424T124954
CREATED:20230131T125856Z
LAST-MODIFIED:20230215T133150Z
UID:5926-1676538000-1676540700@hjelpemidler.varodd.no
SUMMARY:Webinar: bariatriprodukter
DESCRIPTION:Hva: Overvekt og fedme er assosiert med en rekke helseutfordringer og er sterkt økende i Norge – og i resten av verden. Så hvordan sikrer man verdigheten når den bariatriske pasienten ankommer institusjon og ingen er forberedt? \nNår: torsdag 16. februar kl. 09.00 – 09.45 \nHvor: Teams-webinar (lenke sendes på e-post etter registrering) \nPris: gratis (åpen for publikum) \n  \nRegistrer meg \n  \n\n  \nLes mer om produktene som vises på webinar her:\n \n  \n\n  \nPraktisk informasjon:\nKurset vil foregå på Teams og vil vare i 30-40 minutter. Det er ikke nødvendig å ha Teams for å delta\, men vi anbefaler å bruke Chrome som nettleser. Lenke til kurset blir sendt på e-post til påmeldte deltakere. \n  \n\n  \nKurset vil foregå via Teams:\n\nDet blir ikke gjort opptak av dette kurset\nDitt navn vil være synlig for andre deltagere i kurset\nDu kan selv velge om du vil ha på bilde/lyd av deg selv\nIngen deltagere har lov til å gjøre opptak av kurset som holdes\n\n  \n\n  \nKursansvarlig:\n \n\nRuth Kirsti Stie\nSalgssjef\nruth.kirsti@varodd.no\n454 79 366\n\n 
URL:https://hjelpemidler.varodd.no/arrangement/webinar-bariatriprodukter/
LOCATION:Ulset
CATEGORIES:Webinar
ATTACH;FMTTYPE=image/jpeg:https://d38vpb7vfo5r61.cloudfront.net/wp-content/uploads/2023/01/31133413/Baritri-produkter-webinar.jpg
END:VEVENT
BEGIN:VEVENT
DTSTART;TZID=Europe/Oslo:20230216T100000
DTEND;TZID=Europe/Oslo:20230216T150000
DTSTAMP:20260424T124954
CREATED:20221219T082731Z
LAST-MODIFIED:20230120T085102Z
UID:5761-1676541600-1676559600@hjelpemidler.varodd.no
SUMMARY:Messe: Larvik
DESCRIPTION:Hva: Flere leverandører har i Vestfold også i år gått sammen om en felles fagdag med produktgjennomgang av diverse tekniske hjelpemidler. Er du ergoterapeut\, fysioterapeut\, hjelpemiddeltekniker\, fra pleie og omsorg eller annet – da er det bare å ta turen innom vår fagdag og la deg inspirere. \nNår: torsdag 16. februar 2023\, kl. 10:00-15:00 \nHvor: Larvik kulturhus Bølgen (Sanden 2\, 3264 Larvik) \nPris: gratis inngang \nPåmelding: Pga. bevertning må vi vite hvor mange som skal ha lunsj (serveres fra kl. 11.30)\, gi beskjed på e-post til: thor-arne.tvetene@sunrisemedical.no innen mandag 13. februar. \n  \nLast ned invitasjon
URL:https://hjelpemidler.varodd.no/arrangement/messe-larvik/
LOCATION:Bølgen Kulturhus\, Sanden 2\, Larvik\, 3264\, Norge
CATEGORIES:Messe
END:VEVENT
END:VCALENDAR