BEGIN:VCALENDAR
VERSION:2.0
PRODID:-//Varodd Velferdsteknologi - ECPv6.15.20//NONSGML v1.0//EN
CALSCALE:GREGORIAN
METHOD:PUBLISH
X-WR-CALNAME:Varodd Velferdsteknologi
X-ORIGINAL-URL:https://hjelpemidler.varodd.no
X-WR-CALDESC:Arrangement for Varodd Velferdsteknologi
REFRESH-INTERVAL;VALUE=DURATION:PT1H
X-Robots-Tag:noindex
X-PUBLISHED-TTL:PT1H
BEGIN:VTIMEZONE
TZID:Europe/Oslo
BEGIN:DAYLIGHT
TZOFFSETFROM:+0100
TZOFFSETTO:+0200
TZNAME:CEST
DTSTART:20220327T010000
END:DAYLIGHT
BEGIN:STANDARD
TZOFFSETFROM:+0200
TZOFFSETTO:+0100
TZNAME:CET
DTSTART:20221030T010000
END:STANDARD
BEGIN:DAYLIGHT
TZOFFSETFROM:+0100
TZOFFSETTO:+0200
TZNAME:CEST
DTSTART:20230326T010000
END:DAYLIGHT
BEGIN:STANDARD
TZOFFSETFROM:+0200
TZOFFSETTO:+0100
TZNAME:CET
DTSTART:20231029T010000
END:STANDARD
BEGIN:DAYLIGHT
TZOFFSETFROM:+0100
TZOFFSETTO:+0200
TZNAME:CEST
DTSTART:20240331T010000
END:DAYLIGHT
BEGIN:STANDARD
TZOFFSETFROM:+0200
TZOFFSETTO:+0100
TZNAME:CET
DTSTART:20241027T010000
END:STANDARD
END:VTIMEZONE
BEGIN:VEVENT
DTSTART;TZID=Europe/Oslo:20230308T100000
DTEND;TZID=Europe/Oslo:20230308T140000
DTSTAMP:20260424T110938
CREATED:20230206T124040Z
LAST-MODIFIED:20230206T124612Z
UID:5950-1678269600-1678284000@hjelpemidler.varodd.no
SUMMARY:Minimesse: Elverum
DESCRIPTION:Hva: Kom innom oss på messen for få kunnskap om våre produkter. Det vil også være en god anledning til å prøve flere av produktene. Ta med deg en venn og sett av noen timer sammen med oss. Vi sørger for varm drikke\, faglig påfyll og god stemning. Leverandørene vil holde presentasjoner mellom kl. 11:00 – 12:00 med faglig innhold. På den måten vil du få enda mer ut av messen! \nNår: onsdag 8. mars 2023\, kl. 10:00-14:00 \nHvor: Norsk skogmuseum (Solørvegen 151\, 2407 Elverum) \nPris: gratis inngang \n  \nTil påmelding
URL:https://hjelpemidler.varodd.no/arrangement/minimesse-elverum-2/
LOCATION:Norsk Skogmuseum\, Solørvegen 151\, Elverum\, 2407\, Norge
CATEGORIES:Messe
END:VEVENT
BEGIN:VEVENT
DTSTART;TZID=Europe/Oslo:20230309T100000
DTEND;TZID=Europe/Oslo:20230309T140000
DTSTAMP:20260424T110938
CREATED:20230206T124626Z
LAST-MODIFIED:20230206T124649Z
UID:5952-1678356000-1678370400@hjelpemidler.varodd.no
SUMMARY:Minimesse: Tynset
DESCRIPTION:Hva: Kom innom oss på messen for få kunnskap om våre produkter. Det vil også være en god anledning til å prøve flere av produktene. Ta med deg en venn og sett av noen timer sammen med oss. Vi sørger for varm drikke\, faglig påfyll og god stemning. Leverandørene vil holde presentasjoner mellom kl. 11:00 – 12:00 med faglig innhold. På den måten vil du få enda mer ut av messen! \nNår: torsdag 9. mars 2023\, kl. 10:00-14:00 \nHvor: Tynset kulturhus (Torvgata 1\, 2500 Tynset) \nPris: gratis inngang \n  \nTil påmelding
URL:https://hjelpemidler.varodd.no/arrangement/minimesse-tynset-2/
LOCATION:Tynset kulturhus\, Torvgata 1\, Tynset\, 2500\, Norge
CATEGORIES:Messe
END:VEVENT
BEGIN:VEVENT
DTSTART;TZID=Europe/Oslo:20230314T100000
DTEND;TZID=Europe/Oslo:20230314T140000
DTSTAMP:20260424T110938
CREATED:20230206T125003Z
LAST-MODIFIED:20230206T125003Z
UID:5960-1678788000-1678802400@hjelpemidler.varodd.no
SUMMARY:Minimesse: Brandbu
DESCRIPTION:Hva: Kom innom oss på messen for få kunnskap om våre produkter. Det vil også være en god anledning til å prøve flere av produktene. Ta med deg en venn og sett av noen timer sammen med oss. Vi sørger for varm drikke\, faglig påfyll og god stemning. Leverandørene vil holde presentasjoner mellom kl. 11:00 – 12:00 med faglig innhold. På den måten vil du få enda mer ut av messen! \nNår: tirsdag 14. mars 2023\, kl. 10:00-14:00 \nHvor: Granvang (Hovsvegen 2\, 2750 Gran) \nPris: gratis inngang \n  \nTil påmelding
URL:https://hjelpemidler.varodd.no/arrangement/minimesse-brandbu/
LOCATION:Granvang\, Hovsvegen 2\, Gran\, 2750\, Norge
CATEGORIES:Messe
END:VEVENT
BEGIN:VEVENT
DTSTART;TZID=Europe/Oslo:20230315T100000
DTEND;TZID=Europe/Oslo:20230315T140000
DTSTAMP:20260424T110938
CREATED:20230206T125245Z
LAST-MODIFIED:20230206T125255Z
UID:5964-1678874400-1678888800@hjelpemidler.varodd.no
SUMMARY:Minimesse: Biri
DESCRIPTION:Hva: Kom innom oss på messen for få kunnskap om våre produkter. Det vil også være en god anledning til å prøve flere av produktene. Ta med deg en venn og sett av noen timer sammen med oss. Vi sørger for varm drikke\, faglig påfyll og god stemning. Leverandørene vil holde presentasjoner mellom kl. 11:00 – 12:00 med faglig innhold. På den måten vil du få enda mer ut av messen! \nNår: onsdag 15. mars 2023\, kl. 10:00-14:00 \nHvor: Biri travbane (Paradisvegen 7\, 2836 Biri) \nPris: gratis inngang \n  \nTil påmelding
URL:https://hjelpemidler.varodd.no/arrangement/minimesse-biri-2/
LOCATION:Biri travbane\, Paradisvegen 7\, Biri\, 2836\, Norge
CATEGORIES:Messe
END:VEVENT
BEGIN:VEVENT
DTSTART;TZID=Europe/Oslo:20230316T100000
DTEND;TZID=Europe/Oslo:20230316T140000
DTSTAMP:20260424T110938
CREATED:20230206T125731Z
LAST-MODIFIED:20230206T125731Z
UID:5967-1678960800-1678975200@hjelpemidler.varodd.no
SUMMARY:Minimesse: Vinstra
DESCRIPTION:Hva: Kom innom oss på messen for få kunnskap om våre produkter. Det vil også være en god anledning til å prøve flere av produktene. Ta med deg en venn og sett av noen timer sammen med oss. Vi sørger for varm drikke\, faglig påfyll og god stemning. Leverandørene vil holde presentasjoner mellom kl. 11:00 – 12:00 med faglig innhold. På den måten vil du få enda mer ut av messen! \nNår: torsdag 16. mars 2023\, kl. 10:00-14:00 \nHvor: Peer Gynt Hotel & spiseri (Rustvegen 81\, 2640 Vinstra) \nPris: gratis inngang \n  \nTil påmelding
URL:https://hjelpemidler.varodd.no/arrangement/minimesse-vinstra-2/
LOCATION:Peer Gynt Hotel and Spiseri\, Rustveien 81\, Vinstra\, 2640\, Norge
END:VEVENT
BEGIN:VEVENT
DTSTART;TZID=Europe/Oslo:20230329T100000
DTEND;TZID=Europe/Oslo:20230329T104500
DTSTAMP:20260424T110938
CREATED:20230307T104452Z
LAST-MODIFIED:20230307T105538Z
UID:5939-1680084000-1680086700@hjelpemidler.varodd.no
SUMMARY:Webinar: alt innen vendesystemer
DESCRIPTION:Kursdetaljer:\nHva: Det er både likheter og forskjeller i vendesystemenes oppbygging\, funksjonsspekter\, målgrupper og arbeidsmetoder. Men ett tydelig fellestrekk er at de alle skal avlaste bruker og pleiepersonell. Så hvilket vendesystem bør du velge? Vi guider deg. \nNår: onsdag 29. mars kl. 10.00 – 10.45 \nHvor: Teams-webinar (lenke sendes på e-post etter registrering) \nPris: gratis (åpen for publikum) \n  \nRegistrer meg \n  \n\n  \nLes mer om vendesystemene som vises på webinaret her:\n \n  \n\n  \nPraktisk informasjon:\nKurset vil foregå på Teams og vil vare i 40-45 minutter. Det er ikke nødvendig å ha Teams for å delta\, men vi anbefaler å bruke Chrome som nettleser. Lenke til kurset blir sendt på e-post til påmeldte deltakere. \n  \n\n  \nKurset vil foregå via Teams:\n\nDet blir ikke gjort opptak av dette kurset\nDitt navn vil være synlig for andre deltagere i kurset\nDu kan selv velge om du vil ha på bilde/lyd av deg selv\nIngen deltagere har lov til å gjøre opptak av kurset som holdes\n\n  \n\n  \nKursansvarlig:\n \n\nRuth Kirsti Stie\nSalgssjef\nruth.kirsti@varodd.no\n454 79 366\n\n  \n  \n 
URL:https://hjelpemidler.varodd.no/arrangement/webinar-alt-innen-vendesystemer/
LOCATION:Ulset
CATEGORIES:Webinar
ATTACH;FMTTYPE=image/jpeg:https://d38vpb7vfo5r61.cloudfront.net/wp-content/uploads/2023/02/15141117/Webinar-vendesystemer-stor-header-2023.jpg
END:VEVENT
END:VCALENDAR