BEGIN:VCALENDAR
VERSION:2.0
PRODID:-//Varodd Velferdsteknologi - ECPv6.15.20//NONSGML v1.0//EN
CALSCALE:GREGORIAN
METHOD:PUBLISH
X-ORIGINAL-URL:https://hjelpemidler.varodd.no
X-WR-CALDESC:Arrangement for Varodd Velferdsteknologi
REFRESH-INTERVAL;VALUE=DURATION:PT1H
X-Robots-Tag:noindex
X-PUBLISHED-TTL:PT1H
BEGIN:VTIMEZONE
TZID:Europe/Oslo
BEGIN:DAYLIGHT
TZOFFSETFROM:+0100
TZOFFSETTO:+0200
TZNAME:CEST
DTSTART:20220327T010000
END:DAYLIGHT
BEGIN:STANDARD
TZOFFSETFROM:+0200
TZOFFSETTO:+0100
TZNAME:CET
DTSTART:20221030T010000
END:STANDARD
BEGIN:DAYLIGHT
TZOFFSETFROM:+0100
TZOFFSETTO:+0200
TZNAME:CEST
DTSTART:20230326T010000
END:DAYLIGHT
BEGIN:STANDARD
TZOFFSETFROM:+0200
TZOFFSETTO:+0100
TZNAME:CET
DTSTART:20231029T010000
END:STANDARD
BEGIN:DAYLIGHT
TZOFFSETFROM:+0100
TZOFFSETTO:+0200
TZNAME:CEST
DTSTART:20240331T010000
END:DAYLIGHT
BEGIN:STANDARD
TZOFFSETFROM:+0200
TZOFFSETTO:+0100
TZNAME:CET
DTSTART:20241027T010000
END:STANDARD
END:VTIMEZONE
BEGIN:VEVENT
DTSTART;TZID=Europe/Oslo:20230412T120000
DTEND;TZID=Europe/Oslo:20230412T160000
DTSTAMP:20260424T093009
CREATED:20230222T132616Z
LAST-MODIFIED:20230330T085733Z
UID:5943-1681300800-1681315200@hjelpemidler.varodd.no
SUMMARY:Fagdag: Forebygging og rehabilitering i Bergen
DESCRIPTION:Forebygging\, effektivisering og rehabilitering i et spennende samarbeid mellom Varodd Velferdsteknologi\, Norwegian Smart Care Cluster og Alrek helseklynge.\nKom på fagdag og prøv den nye teknologiske sengen for institusjon og hjemmetjenesten. Dette er et resultat av innovativ tenkning der kunde og leverandør har utviklet og videreutviklet sengen sammen. I sum har vi nå en pleieseng som få andre i landsdelen kan matche. Håper du blir med når vi presenterer denne reisen. \n  \nHva: Med denne fagdagen ønsker vi å lufte aktuelle tema og bidra til faglig stimulering og inspirerende påfyll for hele feltet: Ledere i helse- og omsorgssektoren\, fagpersoner\, IKT-rådgivere\, forskningsmiljø\, politikere\, samt andre som jobber med implementering av e-helse og velferdsteknologi ved institusjon og i hjemmetjenesten. I denne omgang vil vi jobbe spesielt med temaene teknologisk pleieseng\, datainnsamling\, forebygging\, effektivisering og rehabilitering. \nNår: onsdag 12. april 2023\, kl. 12 -16 \nHvor: Alrek helseklynge (Årstadveien 17\, 5009 Bergen) \n  \nKlikk her for å se invitasjonen i PDF-format \n  \n\n  \nPåmeldingsskjema:\n\n\n                 \n \n                        Navn(Påkrevd)\n                            \n                            \n                                                    \n                                                    Fornavn\n                                                \n                            \n                            \n                                                    \n                                                    Etternavn\n                                                \n                            \n                        E-post(Påkrevd)\n                            \n                        Stilling(Påkrevd)Samtykke(Påkrevd)\n								\n								Ved å sende inn påmelding samtykker du at dine opplysninger blir behandlet i våre systemer til å besvare påmeldingen. Vår behandling av personopplysninger er beskrevet i Varodd Velferdsteknologis personvernerklæring.\n							Nyhetsbrev\n								\n								Jeg ønsker å motta nyhetsbrev fra Varodd Velferdsteknologi\n							\n          \n            \n            \n            \n            \n            \n            \n            \n            \n            \n            \n            \n            \n            \n        \n                        Δ \n                        \n\n  \n\n  \nProgram:\n12:00-12:15: Mingling \n12:15-12:30: Velkommen m/ Grete Oline Hole fra Høgskulen på Vestlandet \n12:30-12:45: Samarbeid mellom klynge og leverandør m/ Tone Skår fra NSCC/NSCLab \n12:45-13:00: Minglepause \n13:00-13:25: Historen bak den teknologiske pleiesengen m/ Ruth Kirsti Stie fra Varodd Velferdsteknologi \n13:25-13:40: Hvordan løse kompliserende fakta (fangst og gjenbruk av data) m/ Jo Inge Gåsvær fra HVL / Carasent \n13:40-16:00: Produktvisning med gjennomgang av diverse teknologiske hjelpemidler \n 
URL:https://hjelpemidler.varodd.no/arrangement/fagdag/
LOCATION:Alrek helseklynge\, Årstadveien 17\, Bergen\, 5009\, Norge
CATEGORIES:Seminar
ATTACH;FMTTYPE=image/jpeg:https://d38vpb7vfo5r61.cloudfront.net/wp-content/uploads/2023/03/30095905/Fagdag-i-Bergen-12.04.2023-forebygging-og-rehabilitering.jpg.jpg
END:VEVENT
BEGIN:VEVENT
DTSTART;TZID=Europe/Oslo:20230418T090000
DTEND;TZID=Europe/Oslo:20230418T094500
DTSTAMP:20260424T093009
CREATED:20230320T091747Z
LAST-MODIFIED:20230323T070657Z
UID:5912-1681808400-1681811100@hjelpemidler.varodd.no
SUMMARY:Webinar: vendeseng
DESCRIPTION:Kursdetaljer:\nHva: En stor del av pleiepersonalets daglige oppgaver foregår rundt pleiesengen. Lær hvordan du kan bruke en vendeseng til å redusere diverse rutineoppgaver. \nNår: tirsdag 18. april kl. 09.00 – 09.45 \nHvor: Teams-webinar (lenke sendes på e-post etter registrering) \nPris: gratis (åpen for publikum) \n  \nRegistrer meg \n  \n\n  \nPraktisk informasjon:\nKurset vil foregå på Teams og vil vare i 40-45 minutter. Det er ikke nødvendig å ha Teams for å delta\, men vi anbefaler å bruke Chrome som nettleser. Lenke til kurset blir sendt på e-post til påmeldte deltakere. \n  \n\n  \nKurset vil foregå via Teams:\n\nDet blir ikke gjort opptak av dette kurset\nDitt navn vil være synlig for andre deltagere i kurset\nDu kan selv velge om du vil ha på bilde/lyd av deg selv\nIngen deltagere har lov til å gjøre opptak av kurset som holdes\n\n  \n\n  \nKursansvarlig:\n \n\nRuth Kirsti Stie\nSalgssjef\nruth.kirsti@varodd.no\n454 79 366\n\n 
URL:https://hjelpemidler.varodd.no/arrangement/vendeseng/
LOCATION:Ulset
CATEGORIES:Webinar
END:VEVENT
BEGIN:VEVENT
DTSTART;TZID=Europe/Oslo:20230425T100000
DTEND;TZID=Europe/Oslo:20230425T150000
DTSTAMP:20260424T093009
CREATED:20221219T081732Z
LAST-MODIFIED:20230322T122014Z
UID:5757-1682416800-1682434800@hjelpemidler.varodd.no
SUMMARY:Messe: Kristiansand
DESCRIPTION:Hva: Årets messe på Sørlandet går av stabelen 25. april i Sørlandshallen. Hjelpemiddelmessen Sør-Øst er arrangør\, på vegne av ledende leverandører av hjelpemidler. Hvert år presenteres hjelpemidler innen en rekke områder\, blant annet bevegelseshjelpemidler\, løft og forflytning\, hygiene\, IKT og syn og hørsel. Det blir også enkel servering – velkommen til en innholdsrik dag! \nNår: tirsdag 25. april 2023\, kl. 10:00-15:00 \nHvor: Sørlandshallen (Travparkveien 24\, 4636 Kristiansand) \nPris: gratis inngang \n  \nLast ned invitasjon \n  \n  \n\n  \nMeld deg på fellesvisning med Varodd Velferdsteknologi her:\n\n  \n\n  \nNoen av hjelpemidlene som vises på messen:\n                
URL:https://hjelpemidler.varodd.no/arrangement/messe-kristiansand-3/
LOCATION:Sørlandshallen\, Travparkveien 24\, Kristiansand\, Agder\, 4636\, Norge
CATEGORIES:Messe
ATTACH;FMTTYPE=image/jpeg:https://d38vpb7vfo5r61.cloudfront.net/wp-content/uploads/2023/03/21144927/Hjelpemiddelmesse-2023-Kristiansand-Sorlandshallen.jpg
END:VEVENT
BEGIN:VEVENT
DTSTART;TZID=Europe/Oslo:20230426T100000
DTEND;TZID=Europe/Oslo:20230426T150000
DTSTAMP:20260424T093009
CREATED:20221219T083209Z
LAST-MODIFIED:20230426T053813Z
UID:5763-1682503200-1682521200@hjelpemidler.varodd.no
SUMMARY:Messe: Skien
DESCRIPTION:Hva: Årets messe i Skien går av stabelen 26. april i Skien Fritidspark. Hjelpemiddelmessen Sør-Øst er arrangør\, på vegne av ledende leverandører av hjelpemidler. Hvert år presenteres hjelpemidler innen en rekke områder\, blant annet bevegelseshjelpemidler\, løft og forflytning\, hygiene\, IKT og syn og hørsel. Det blir også enkel servering – velkommen til en innholdsrik dag! \nNår: onsdag 26. april 2023\, kl. 10:00-15:00 \nHvor: Skien Fritidspark (Moflatvegen 38\, 3733 Skien) \nPris: gratis inngang \nLast ned invitasjon \n  \n\n  \nMeld deg på fellesvisning med Varodd Velferdsteknologi her:\n\n  \n\n  \nNoen av hjelpemidlene som vises på messen:\n                  \n 
URL:https://hjelpemidler.varodd.no/arrangement/messe-skien-2/
LOCATION:Skien fritidspark\, Moflatvegen 38\, Skien\, 3733
CATEGORIES:Messe
ATTACH;FMTTYPE=image/jpeg:https://d38vpb7vfo5r61.cloudfront.net/wp-content/uploads/2023/03/21144930/Hjelpemiddelmesse-2023-Skien-SkienFritidspark.jpg
END:VEVENT
BEGIN:VEVENT
DTSTART;TZID=Europe/Oslo:20230427T100000
DTEND;TZID=Europe/Oslo:20230427T150000
DTSTAMP:20260424T093009
CREATED:20221219T083835Z
LAST-MODIFIED:20230322T121913Z
UID:5766-1682589600-1682607600@hjelpemidler.varodd.no
SUMMARY:Messe: Drammen
DESCRIPTION:Hva: Årets messe i Drammen går av stabelen 27. april i Drammenshallen. Hjelpemiddelmessen Sør-Øst er arrangør\, på vegne av ledende leverandører av hjelpemidler. Hvert år presenteres hjelpemidler innen en rekke områder\, blant annet bevegelseshjelpemidler\, løft og forflytning\, hygiene\, IKT og syn og hørsel. Det blir også enkel servering – velkommen til en innholdsrik dag! \nNår: torsdag 27. april 2023\, kl. 10:00-15:00 \nHvor: Drammenshallen (Knoffs gate 18\, 3044 Drammen) \nPris: gratis inngang \n  \nLast ned invitasjon \n  \n\n  \nMeld deg på fellesvisning med Varodd Velferdsteknologi her:\n\n\n  \nNoen av hjelpemidlene som vises på messen:\n                  \n 
URL:https://hjelpemidler.varodd.no/arrangement/messe-drammen-2/
LOCATION:Drammenshallen\, Knoffs gate 18\, Drammen\, 3044\, Norge
CATEGORIES:Messe
ATTACH;FMTTYPE=image/jpeg:https://d38vpb7vfo5r61.cloudfront.net/wp-content/uploads/2023/03/21144921/Hjelpemiddelmesse-2023-Drammen-Drammenshallen.jpg
END:VEVENT
END:VCALENDAR