BEGIN:VCALENDAR
VERSION:2.0
PRODID:-//Varodd Velferdsteknologi - ECPv6.15.20//NONSGML v1.0//EN
CALSCALE:GREGORIAN
METHOD:PUBLISH
X-ORIGINAL-URL:https://hjelpemidler.varodd.no
X-WR-CALDESC:Arrangement for Varodd Velferdsteknologi
REFRESH-INTERVAL;VALUE=DURATION:PT1H
X-Robots-Tag:noindex
X-PUBLISHED-TTL:PT1H
BEGIN:VTIMEZONE
TZID:Europe/Oslo
BEGIN:DAYLIGHT
TZOFFSETFROM:+0100
TZOFFSETTO:+0200
TZNAME:CEST
DTSTART:20220327T010000
END:DAYLIGHT
BEGIN:STANDARD
TZOFFSETFROM:+0200
TZOFFSETTO:+0100
TZNAME:CET
DTSTART:20221030T010000
END:STANDARD
BEGIN:DAYLIGHT
TZOFFSETFROM:+0100
TZOFFSETTO:+0200
TZNAME:CEST
DTSTART:20230326T010000
END:DAYLIGHT
BEGIN:STANDARD
TZOFFSETFROM:+0200
TZOFFSETTO:+0100
TZNAME:CET
DTSTART:20231029T010000
END:STANDARD
BEGIN:DAYLIGHT
TZOFFSETFROM:+0100
TZOFFSETTO:+0200
TZNAME:CEST
DTSTART:20240331T010000
END:DAYLIGHT
BEGIN:STANDARD
TZOFFSETFROM:+0200
TZOFFSETTO:+0100
TZNAME:CET
DTSTART:20241027T010000
END:STANDARD
END:VTIMEZONE
BEGIN:VEVENT
DTSTART;TZID=Europe/Oslo:20230503T100000
DTEND;TZID=Europe/Oslo:20230503T150000
DTSTAMP:20260424T075928
CREATED:20230110T080340Z
LAST-MODIFIED:20230419T103943Z
UID:5820-1683108000-1683126000@hjelpemidler.varodd.no
SUMMARY:Messe: Oslo
DESCRIPTION:Hva: Årets hjelpemiddelmesse i Oslo går av stabelen 3. mai i Ekeberghallen. Hjelpemiddelmessen Sør-Øst er arrangør\, på vegne av ledende leverandører av hjelpemidler. Hvert år presenteres hjelpemidler innen en rekke områder\, blant annet bevegelseshjelpemidler\, løft og forflytning\, hygiene\, IKT og syn og hørsel. Det blir også enkel servering – velkommen til en innholdsrik dag! \nNår: onsdag 3. mai 2023\, kl. 10:00-15:00 \nHvor: Ekeberghallen (Ekebergveien 101\, 1178 Oslo) \nPris: gratis inngang \n  \nLast ned invitasjon \n  \n\n  \nMeld deg på fellesvisning med Varodd Velferdsteknologi her:\n\n\n  \nNoen av hjelpemidlene som vises på messen:\n                  \n 
URL:https://hjelpemidler.varodd.no/arrangement/messe-oslo-3/
LOCATION:Ekeberghallen\, Ekebergveien 101\, Oslo\, 1178\, Norge
CATEGORIES:Messe
ATTACH;FMTTYPE=image/jpeg:https://d38vpb7vfo5r61.cloudfront.net/wp-content/uploads/2023/03/21144928/Hjelpemiddelmesse-2023-Oslo-Ekeberghallen.jpg
END:VEVENT
BEGIN:VEVENT
DTSTART;TZID=Europe/Oslo:20230504T100000
DTEND;TZID=Europe/Oslo:20230504T150000
DTSTAMP:20260424T075928
CREATED:20221219T084209Z
LAST-MODIFIED:20230322T121945Z
UID:5768-1683194400-1683212400@hjelpemidler.varodd.no
SUMMARY:Messe: Fredrikstad
DESCRIPTION:Hva: Årets hjelpemiddelmesse i Fredrikstad går av stabelen 4. mai i Kongstenhallen. Hjelpemiddelmessen Sør-Øst er arrangør\, på vegne av ledende leverandører av hjelpemidler. Hvert år presenteres hjelpemidler innen en rekke områder\, blant annet bevegelseshjelpemidler\, løft og forflytning\, hygiene\, IKT og syn og hørsel. Det blir også enkel servering – velkommen til en innholdsrik dag! \nNår: torsdag 4. mai 2023 kl. 10:00-15:00 \nHvor: Kongstenhallen (Torsnesveien 12\, 1630 Gamle Fredrikstad) \nPris: gratis inngang \n  \nLast ned invitasjon \n  \n\n  \nMeld deg på fellesvisning med Varodd Velferdsteknologi her:\n\n\n  \nNoen av hjelpemidlene som vises på messen:\n                  \n 
URL:https://hjelpemidler.varodd.no/arrangement/messe-fredrikstad-2/
LOCATION:Installatøren Arena\, Torsnesveien 12\, Gamle Fredrikstad\, 1630
CATEGORIES:Messe
ATTACH;FMTTYPE=image/jpeg:https://d38vpb7vfo5r61.cloudfront.net/wp-content/uploads/2023/03/21144923/Hjelpemiddelmesse-2023-Fredrikstad-Kongstenhallen.jpg
END:VEVENT
BEGIN:VEVENT
DTSTART;TZID=Europe/Oslo:20230510T100000
DTEND;TZID=Europe/Oslo:20230510T180000
DTSTAMP:20260424T075928
CREATED:20230207T123236Z
LAST-MODIFIED:20230510T075658Z
UID:5984-1683712800-1683741600@hjelpemidler.varodd.no
SUMMARY:Messe: Bodø
DESCRIPTION:Hva: Flere leverandører har også i år gått sammen om en felles fagdag med produktgjennomgang av diverse tekniske hjelpemidler. Messen arrangeres av Nav Hjelpemiddelsentral Nordland i samarbeid med Nord-Norsk Hjelpemiddelmesse. Er du ergoterapeut\, fysioterapeut\, hjelpemiddeltekniker\, fra pleie og omsorg eller annet – da er det bare å ta turen innom vår fagdag og la deg inspirere. \nNår: onsdag 10. mai 2023\, kl. 10:00-18:00 \nHvor: Bodø spektrum (Plassmyrveien 11\, 8008 Bodø) \nPris: gratis inngang \n  \nSe arrangementet på Facebook
URL:https://hjelpemidler.varodd.no/arrangement/messe-bodo-2/
LOCATION:Bodø spektrum\, Plassmyrveien 11\, Bodø\, 8008\, Norge
CATEGORIES:Messe
ATTACH;FMTTYPE=image/jpeg:https://d38vpb7vfo5r61.cloudfront.net/wp-content/uploads/2023/03/21144919/Hjelpemiddelmesse-2023-Bodo-BodeSpektrum.jpg
END:VEVENT
BEGIN:VEVENT
DTSTART;TZID=Europe/Oslo:20230524T090000
DTEND;TZID=Europe/Oslo:20230524T160000
DTSTAMP:20260424T075928
CREATED:20230110T081147Z
LAST-MODIFIED:20230330T130711Z
UID:5824-1684918800-1684944000@hjelpemidler.varodd.no
SUMMARY:Messe: Ålesund
DESCRIPTION:Hva: Hjelpemiddelmessen vil ha ca. 40 utstillere innen forflytning\, syn\, hørsel\, kommunikasjon (ASK)\, BPA m.m. Messen retter seg mot alle som har interesse for ulike hjelpemidler – det være seg skole-/barnehageansatte\, helsepersonell\, arbeidsgivere teknikere\, brukere\, pårørende\, assistenter m.m. \nNår: onsdag 24. mai 2023\, kl. 09:00-16:00 \nHvor: Sparebanken Møre Arena (Sjømannsvegen 16\, 6008 Ålesund) \nPris: gratis inngang (åpen kiosk med mulighet for kjøp av mat/drikke.) \n  \nLast ned invitasjon \n  \n\n  \nMeld deg på fellesvisning med Varodd Velferdsteknologi her:\n\n\n  \nNoen av hjelpemidlene som vises på messen:\n                
URL:https://hjelpemidler.varodd.no/arrangement/messe-alesund/
LOCATION:Sparebanken Møre Arena\, Sjømannsvegen 16\, Ålesund\, 6008\, Norge
CATEGORIES:Messe
ATTACH;FMTTYPE=image/jpeg:https://d38vpb7vfo5r61.cloudfront.net/wp-content/uploads/2023/03/23111242/Hjelpemiddelmesse-2023-Alesund-SparebankenMoreArena.jpg
END:VEVENT
END:VCALENDAR