BEGIN:VCALENDAR
VERSION:2.0
PRODID:-//Varodd Velferdsteknologi - ECPv6.15.20//NONSGML v1.0//EN
CALSCALE:GREGORIAN
METHOD:PUBLISH
X-WR-CALNAME:Varodd Velferdsteknologi
X-ORIGINAL-URL:https://hjelpemidler.varodd.no
X-WR-CALDESC:Arrangement for Varodd Velferdsteknologi
REFRESH-INTERVAL;VALUE=DURATION:PT1H
X-Robots-Tag:noindex
X-PUBLISHED-TTL:PT1H
BEGIN:VTIMEZONE
TZID:Europe/Oslo
BEGIN:DAYLIGHT
TZOFFSETFROM:+0100
TZOFFSETTO:+0200
TZNAME:CEST
DTSTART:20220327T010000
END:DAYLIGHT
BEGIN:STANDARD
TZOFFSETFROM:+0200
TZOFFSETTO:+0100
TZNAME:CET
DTSTART:20221030T010000
END:STANDARD
BEGIN:DAYLIGHT
TZOFFSETFROM:+0100
TZOFFSETTO:+0200
TZNAME:CEST
DTSTART:20230326T010000
END:DAYLIGHT
BEGIN:STANDARD
TZOFFSETFROM:+0200
TZOFFSETTO:+0100
TZNAME:CET
DTSTART:20231029T010000
END:STANDARD
BEGIN:DAYLIGHT
TZOFFSETFROM:+0100
TZOFFSETTO:+0200
TZNAME:CEST
DTSTART:20240331T010000
END:DAYLIGHT
BEGIN:STANDARD
TZOFFSETFROM:+0200
TZOFFSETTO:+0100
TZNAME:CET
DTSTART:20241027T010000
END:STANDARD
END:VTIMEZONE
BEGIN:VEVENT
DTSTART;TZID=Europe/Oslo:20230601T090000
DTEND;TZID=Europe/Oslo:20230601T100000
DTSTAMP:20260424T062302
CREATED:20230504T111745Z
LAST-MODIFIED:20230525T140415Z
UID:6464-1685610000-1685613600@hjelpemidler.varodd.no
SUMMARY:Webinar: seng og sengeutstyr på rammeavtale
DESCRIPTION:Kursdetaljer:\nHva: NAV får en ny rammeavtale på hjelpemidler f.o.m. 1 juni 2023. Varodd Velferdsteknologi leverer senger\, sengebunn\, hjertebrett og madrasser i forbindelse med denne avtalen. Dette webinaret er en produktdemonstrasjon av hjelpemidlene som kommer på avtale. \nNår: torsdag 1. juni kl. 9.00 – 10.00 \nHvor: Teams-webinar (lenke sendes på e-post etter registrering) \nMålgruppe: Webinaret passer for ergoterapeuter og andre kommunalt ansatte som arbeider med senger og sengeutstyr. \nPris: gratis (åpen for publikum) \n  \nRegistrer meg \n  \n\n  \nPå webinaret blir du kjent med:\n\nPost 01 | Opus K85EW\nPost 02 | Opus 90W\nPost 03 | Opus 120EW\nPost 04 | Opus SDW\nPost 05 | Opus 90EW HS\nPost 11 | Hypnos I og Hypnos II\nPost 12 | Opus hjertebrett smal og Opus hjertebrett bred\n\n  \n\n  \nPraktisk informasjon:\nKurset vil foregå på Teams og vil vare i 50-60 minutter. Det er ikke nødvendig å ha Teams for å delta\, men vi anbefaler å bruke Chrome som nettleser. Lenke til kurset blir sendt på e-post til påmeldte deltakere. \n  \n\n  \nKurset vil foregå via Teams:\n\nDet blir ikke gjort opptak av dette kurset\nDitt navn vil være synlig for andre deltagere i kurset\nDu kan selv velge om du vil ha på bilde/lyd av deg selv\nIngen deltagere har lov til å gjøre opptak av kurset som holdes\n\n  \n\n  \nKursansvarlig:\n \n\nRuth Kirsti Stie\nSalgssjef\nruth.kirsti@varodd.no\n454 79 366
URL:https://hjelpemidler.varodd.no/arrangement/webinar-seng-og-sengeutstyr-pa-rammeavtale/
LOCATION:Ulset
CATEGORIES:Webinar
ATTACH;FMTTYPE=image/jpeg:https://d38vpb7vfo5r61.cloudfront.net/wp-content/uploads/2023/05/25160218/Sengermadrasser-hjertebrett-1.-juni-2023.jpg
END:VEVENT
BEGIN:VEVENT
DTSTART;TZID=Europe/Oslo:20230601T140000
DTEND;TZID=Europe/Oslo:20230601T144500
DTSTAMP:20260424T062302
CREATED:20230504T123817Z
LAST-MODIFIED:20230525T140533Z
UID:6468-1685628000-1685630700@hjelpemidler.varodd.no
SUMMARY:Webinar: vendesystem på rammeavtale
DESCRIPTION:Kursdetaljer:\nHva: NAV får en ny rammeavtale på hjelpemidler f.o.m. 1 juni 2023. Varodd Velferdsteknologi leverer senger\, sengebunn\, hjertebrett og madrasser i forbindelse med denne avtalen. Dette webinaret er en produktdemonstrasjon av hjelpemidlene som kommer på avtale. \nNår: torsdag 1. juni kl. 14.00 – 14.45 \nHvor: Teams-webinar (lenke sendes på e-post etter registrering) \nMålgruppe: Webinaret passer for ergoterapeuter og andre kommunalt ansatte som arbeider med senger og sengeutstyr. \nPris: gratis (åpen for publikum) \n  \nRegistrer meg \n  \n\n  \nPå webinaret blir du kjent med:\n\nPost 09 |TurnAid T4\n\n  \n\n  \nPraktisk informasjon:\nKurset vil foregå på Teams og vil vare i 40-45 minutter. Det er ikke nødvendig å ha Teams for å delta\, men vi anbefaler å bruke Chrome som nettleser. Lenke til kurset blir sendt på e-post til påmeldte deltakere. \n  \n\n  \nKurset vil foregå via Teams:\n\nDet blir ikke gjort opptak av dette kurset\nDitt navn vil være synlig for andre deltagere i kurset\nDu kan selv velge om du vil ha på bilde/lyd av deg selv\nIngen deltagere har lov til å gjøre opptak av kurset som holdes\n\n  \n\n  \nKursansvarlig:\n \n\nRuth Kirsti Stie\nSalgssjef\nruth.kirsti@varodd.no\n454 79 366
URL:https://hjelpemidler.varodd.no/arrangement/webinar-vendesystem-pa-rammeavtale/
LOCATION:Ulset
CATEGORIES:Webinar
ATTACH;FMTTYPE=image/jpeg:https://d38vpb7vfo5r61.cloudfront.net/wp-content/uploads/2023/05/25160444/Vendesystem-1.-juni-2023.jpg
END:VEVENT
BEGIN:VEVENT
DTSTART;TZID=Europe/Oslo:20230626T101500
DTEND;TZID=Europe/Oslo:20230626T110000
DTSTAMP:20260424T062302
CREATED:20230616T091938Z
LAST-MODIFIED:20230620T115349Z
UID:6624-1687774500-1687777200@hjelpemidler.varodd.no
SUMMARY:Webinar: TurnAid T4 vendesystem
DESCRIPTION:Kursdetaljer:\nHva: NAV fikk en ny rammeavtale 1. juni 2023 på hjelpemidler innen vending og forflytning. Vi inviterer derfor til digital visning av vendesystemet TurnAid T4. Webinaret er rettet mot deg som jobber med risikovurdering av funksjonshemmede\, eldre og pasienter med redusert mobilitet. Her skal vi lære bort konkrete tips til hvordan ulike problemstillinger og oppgaver kan løses med dette vendesystemet. \nNår: mandag 26. juni kl. 10:15 – 11:00 \nHvor: Teams-webinar (lenke sendes på e-post etter registrering) \nPris: gratis (åpen for publikum) \n  \nRegistrer meg \n  \n\n  \nPå webinaret blir du kjent med:\n\nPost 09 | TurnAid T4 (som kan bl.a. brukes på pleiesengen Opus EW)\n\n  \n\n  \nPraktisk informasjon:\n\nKurset vil foregå på Teams og vil vare i ca. 45 minutter. Det er ikke nødvendig å ha Teams for å delta\, men vi anbefaler å bruke Chrome som nettleser. Lenke til kurset blir sendt på e-post til påmeldte deltakere.\nEtter fullført registering\, husk å trykke på knappen «Legg til kalender» opp til høyre i registreringsbildet.\n\n  \n\n  \nKurset vil foregå via Teams:\n\nDet blir ikke gjort opptak av dette kurset\nDitt navn vil være synlig for andre deltagere i kurset\nDu kan selv velge om du vil ha på bilde/lyd av deg selv\nIngen deltagere har lov til å gjøre opptak av kurset som holdes\n\n  \n\n  \nKursansvarlig:\n \n\nRuth Kirsti Stie\nSalgssjef\nruth.kirsti@varodd.no\n454 79 366
URL:https://hjelpemidler.varodd.no/arrangement/webinar-turnaid-t4-vendesystem/
LOCATION:Ulset
CATEGORIES:Webinar
ATTACH;FMTTYPE=image/jpeg:https://d38vpb7vfo5r61.cloudfront.net/wp-content/uploads/2023/06/16114506/Vendesystem-rammeavtale-NAV-26.-juni-2023.jpg
END:VEVENT
BEGIN:VEVENT
DTSTART;TZID=Europe/Oslo:20230627T081500
DTEND;TZID=Europe/Oslo:20230627T090000
DTSTAMP:20260424T062302
CREATED:20230616T091940Z
LAST-MODIFIED:20230616T095926Z
UID:6625-1687853700-1687856400@hjelpemidler.varodd.no
SUMMARY:Webinar: TurnAid T4 vendesystem
DESCRIPTION:Kursdetaljer:\nHva: NAV fikk en ny rammeavtale 1. juni 2023 på hjelpemidler innen vending og forflytning. Vi inviterer derfor til digital visning av vendesystemet TurnAid T4. Webinaret er rettet mot deg som jobber med risikovurdering av funksjonshemmede\, eldre og pasienter med redusert mobilitet. Her skal vi lære bort konkrete tips til hvordan ulike problemstillinger og oppgaver kan løses med dette vendesystemet. \nNår: tirsdag 27. juni kl. 8:15 – 9:00 \nHvor: Teams-webinar (lenke sendes på e-post etter registrering) \nPris: gratis (åpen for publikum) \n  \nRegistrer meg \n  \n\n  \nPå webinaret blir du kjent med:\n\nPost 09 | TurnAid T4 (som kan bl.a. brukes på pleiesengen Opus EW)\n\n  \n\n  \nPraktisk informasjon:\n\nKurset vil foregå på Teams og vil vare i ca. 45 minutter. Det er ikke nødvendig å ha Teams for å delta\, men vi anbefaler å bruke Chrome som nettleser. Lenke til kurset blir sendt på e-post til påmeldte deltakere.\nEtter fullført registering\, husk å trykke på knappen «Legg til kalender» opp til høyre i registreringsbildet.\n\n  \n\n  \nKurset vil foregå via Teams:\n\nDet blir ikke gjort opptak av dette kurset\nDitt navn vil være synlig for andre deltagere i kurset\nDu kan selv velge om du vil ha på bilde/lyd av deg selv\nIngen deltagere har lov til å gjøre opptak av kurset som holdes\n\n  \n\n  \nKursansvarlig:\n \n\nRuth Kirsti Stie\nSalgssjef\nruth.kirsti@varodd.no\n454 79 366
URL:https://hjelpemidler.varodd.no/arrangement/webinar-turnaid-t4-vendesystem-2/
LOCATION:Ulset
CATEGORIES:Webinar
ATTACH;FMTTYPE=image/jpeg:https://d38vpb7vfo5r61.cloudfront.net/wp-content/uploads/2023/06/16115406/Vendesystem-rammeavtale-NAV-27.-juni-2023.jpg
END:VEVENT
BEGIN:VEVENT
DTSTART;TZID=Europe/Oslo:20230629T081500
DTEND;TZID=Europe/Oslo:20230629T090000
DTSTAMP:20260424T062302
CREATED:20230616T091941Z
LAST-MODIFIED:20230616T095843Z
UID:6626-1688026500-1688029200@hjelpemidler.varodd.no
SUMMARY:Webinar: TurnAid T4 vendesystem
DESCRIPTION:Kursdetaljer:\nHva: NAV fikk en ny rammeavtale 1. juni 2023 på hjelpemidler innen vending og forflytning. Vi inviterer derfor til digital visning av vendesystemet TurnAid T4. Webinaret er rettet mot deg som jobber med risikovurdering av funksjonshemmede\, eldre og pasienter med redusert mobilitet. Her skal vi lære bort konkrete tips til hvordan ulike problemstillinger og oppgaver kan løses med dette vendesystemet. \nNår: torsdag 29. juni kl. 8:15 – 9:00 \nHvor: Teams-webinar (lenke sendes på e-post etter registrering) \nPris: gratis (åpen for publikum) \n  \nRegistrer meg \n  \n\n  \nPå webinaret blir du kjent med:\n\nPost 09 | TurnAid T4 (som kan bl.a. brukes på pleiesengen Opus EW)\n\n  \n\n  \nPraktisk informasjon:\n\nKurset vil foregå på Teams og vil vare i ca. 45 minutter. Det er ikke nødvendig å ha Teams for å delta\, men vi anbefaler å bruke Chrome som nettleser. Lenke til kurset blir sendt på e-post til påmeldte deltakere.\nEtter fullført registering\, husk å trykke på knappen «Legg til kalender» opp til høyre i registreringsbildet.\n\n  \n\n  \nKurset vil foregå via Teams:\n\nDet blir ikke gjort opptak av dette kurset\nDitt navn vil være synlig for andre deltagere i kurset\nDu kan selv velge om du vil ha på bilde/lyd av deg selv\nIngen deltagere har lov til å gjøre opptak av kurset som holdes\n\n  \n\n  \nKursansvarlig:\n \n\nRuth Kirsti Stie\nSalgssjef\nruth.kirsti@varodd.no\n454 79 366
URL:https://hjelpemidler.varodd.no/arrangement/webinar-turnaid-t4-vendesystem-3/
LOCATION:Ulset
CATEGORIES:Webinar
ATTACH;FMTTYPE=image/jpeg:https://d38vpb7vfo5r61.cloudfront.net/wp-content/uploads/2023/06/16115531/Vendesystem-rammeavtale-NAV-29.-juni-2023.jpg
END:VEVENT
END:VCALENDAR