BEGIN:VCALENDAR
VERSION:2.0
PRODID:-//Varodd Velferdsteknologi - ECPv6.15.20//NONSGML v1.0//EN
CALSCALE:GREGORIAN
METHOD:PUBLISH
X-WR-CALNAME:Varodd Velferdsteknologi
X-ORIGINAL-URL:https://hjelpemidler.varodd.no
X-WR-CALDESC:Arrangement for Varodd Velferdsteknologi
REFRESH-INTERVAL;VALUE=DURATION:PT1H
X-Robots-Tag:noindex
X-PUBLISHED-TTL:PT1H
BEGIN:VTIMEZONE
TZID:Europe/Oslo
BEGIN:DAYLIGHT
TZOFFSETFROM:+0100
TZOFFSETTO:+0200
TZNAME:CEST
DTSTART:20220327T010000
END:DAYLIGHT
BEGIN:STANDARD
TZOFFSETFROM:+0200
TZOFFSETTO:+0100
TZNAME:CET
DTSTART:20221030T010000
END:STANDARD
BEGIN:DAYLIGHT
TZOFFSETFROM:+0100
TZOFFSETTO:+0200
TZNAME:CEST
DTSTART:20230326T010000
END:DAYLIGHT
BEGIN:STANDARD
TZOFFSETFROM:+0200
TZOFFSETTO:+0100
TZNAME:CET
DTSTART:20231029T010000
END:STANDARD
BEGIN:DAYLIGHT
TZOFFSETFROM:+0100
TZOFFSETTO:+0200
TZNAME:CEST
DTSTART:20240331T010000
END:DAYLIGHT
BEGIN:STANDARD
TZOFFSETFROM:+0200
TZOFFSETTO:+0100
TZNAME:CET
DTSTART:20241027T010000
END:STANDARD
END:VTIMEZONE
BEGIN:VEVENT
DTSTART;TZID=Europe/Oslo:20230907T100000
DTEND;TZID=Europe/Oslo:20230907T150000
DTSTAMP:20260424T013224
CREATED:20221219T084559Z
LAST-MODIFIED:20230810T081113Z
UID:5772-1694080800-1694098800@hjelpemidler.varodd.no
SUMMARY:Messe: Hamar
DESCRIPTION:Hva: Årets hjelpemiddelmesse i Hamar går av stabelen 7. september i Vikingskipet. Hjelpemiddelmessen Innlandet er arrangør\, på vegne av ledende leverandører av hjelpemidler. Hvert år presenteres hjelpemidler innen en rekke områder\, blant annet bevegelseshjelpemidler\, løft og forflytning\, hygiene\, IKT og syn og hørsel. Velkommen til en innholdsrik dag! \nNår: torsdag 7. september 2023\, kl. 10:00-15:30 \nHvor: Vikingskipet (Åkersvikvegen 1\, 2321 Hamar) \nPris: gratis inngang (åpen for publikum) \n  \n\n  \nMeld deg på fellesvisning med Varodd Velferdsteknologi her:\n\n\n                 \n \n                        Navn\n                            \n                            \n                                                    \n                                                    Fornavn\n                                                \n                            \n                            \n                                                    \n                                                    Etternavn\n                                                \n                            \n                        E-post(Påkrevd)\n                            \n                        Velg klokkeslett og fellesvisning(Påkrevd)\n								\n								Kl. 10.15: Careturner vendesystem\n							\n								\n								Kl. 11.15: Opus 90EW HS seng (NAV-avtale)\n							\n								\n								Kl. 12.15: TurnAid T4 vendesystem (NAV-avtale)\n							Nyhetsbrev\n								\n								Jeg godtar å motta nyhetsbrev fra Varodd Velferdsteknologi.\n							Samtykke(Påkrevd) Ved å sende inn påmelding samtykker du at dine opplysninger blir behandlet i våre systemer til å besvare påmeldingen. Vår behandling av personopplysninger er beskrevet i Varodd Velferdsteknologis personvernerklæring.\n          \n            \n            \n            \n            \n            \n            \n            \n            \n            \n            \n            \n            \n            \n        \n                        Δ \n                        \n\n  \n\n  \nNoen av hjelpemidlene som vises på messen:
URL:https://hjelpemidler.varodd.no/arrangement/messe-hamar-2/
LOCATION:Vikingskipet\, Åkersvikvegen 1\, Hamar\, 2321\, Norge
CATEGORIES:Messe
ATTACH;FMTTYPE=image/jpeg:https://d38vpb7vfo5r61.cloudfront.net/wp-content/uploads/2023/03/21144925/Hjelpemiddelmesse-2023-Hamar-Vikingskipet.jpg
END:VEVENT
BEGIN:VEVENT
DTSTART;TZID=Europe/Oslo:20230913T100000
DTEND;TZID=Europe/Oslo:20230913T170000
DTSTAMP:20260424T013224
CREATED:20230612T103210Z
LAST-MODIFIED:20230913T093607Z
UID:6611-1694599200-1694624400@hjelpemidler.varodd.no
SUMMARY:Messe: Alta
DESCRIPTION:Hva: Årets hjelpemiddelmesse går av stabelen 13. september i Finnmarkshallen. Nord-Norsk Hjelpemiddelmesse i samarbeid med NAV Hjelpemiddelsentral i Finnmark er arrangører\, på vegne av ledende leverandører innen hjelpemidler. Hvert år presenteres hjelpemidler innen en rekke områder\, blant annet bevegelseshjelpemidler\, løft og forflytning\, hygiene\, IKT og syn og hørsel. Velkommen til en innholdsrik dag! \nNår: onsdag 13. september 2023\, kl. 10:00-16:00 \nHvor: Finnmarkshallen (Skoleveien 6\, 9510 Alta) \nPris: gratis inngang (åpen for publikum)
URL:https://hjelpemidler.varodd.no/arrangement/messe-alta/
LOCATION:Finnmarkshallen\, Skoleveien 6\, Alta\, 9510\, Norge
CATEGORIES:Messe
ATTACH;FMTTYPE=image/jpeg:https://d38vpb7vfo5r61.cloudfront.net/wp-content/uploads/2023/06/22131230/Hjelpemiddelmesse-2023-Alta-Finnmarkshallen-Finnmark.jpg
END:VEVENT
BEGIN:VEVENT
DTSTART;TZID=Europe/Oslo:20230921T103000
DTEND;TZID=Europe/Oslo:20230921T111500
DTSTAMP:20260424T013224
CREATED:20230904T105410Z
LAST-MODIFIED:20230904T105410Z
UID:6950-1695292200-1695294900@hjelpemidler.varodd.no
SUMMARY:Webinar: Lindelia sykehjem – demens og velferdsteknologi
DESCRIPTION:Demens er en del av livet for mange på sykehjem. Noen er fysisk friske mens andre har sviktende helse. Hvordan sikrer man da at alle beboere med demens og øvrige diagnoser får et verdig opphold?\n  \nFå inspirasjon fra Lindelia sykehjem:\nWebinaret holdes i sammarbied med Lindelia sykehjem i Bærum som ble ferdigstilt i 2020. Vi får hører om hvordan de har fått implementert produktene i deres daglige virke. Det ble den gang satt stort fokus på velferdsteknologi og gevinstrealisering for brukere og pleiere. Så hvordan har det gått etter 3 år med dette fokuset? \nI dette webinaret viser vi produkter sykehjemmet bruker. Tjenesteleder Lars Tolpinrud vil også fortelle om hvordan Lindelia sykehjem konkret har gått frem for å sikre gevinster med alarmsenger og automatisk vendesystem\, samt hvile effekter dette har en hatt for beboer og pleiepersonell. \n\nHvordan ivareta beboere med flere risikofaktorer?\nInnredning av pasientrom med velferdsteknologi\nErfaringer og utfordringer så langt\n\n  \nKursdetaljer:\nNår: torsdag 21. september kl. 10:30 – 11:15 \nHvor: Teams-webinar (lenke sendes på e-post etter registrering) \nMålgruppe: ansatte i sykehjemstjenesten og heldøgnsomsorg \n  \nRegistrer meg \n  \n  \n\nProdukter som vises på webinaret:\n              \n  \n\n  \nPraktisk informasjon:\nKurset vil foregå på Teams og vil vare i 40-45 minutter. Det er ikke nødvendig å ha Teams for å delta\, men vi anbefaler å bruke Chrome som nettleser. Lenke til kurset blir sendt på e-post til påmeldte deltakere. \n  \n\n  \nKurset vil foregå via Teams:\n\nDet blir ikke gjort opptak av dette kurset\nDitt navn vil være synlig for andre deltagere i kurset\nDu kan selv velge om du vil ha på bilde/lyd av deg selv\nIngen deltagere har lov til å gjøre opptak av kurset som holdes\n\n  \n\n  \nKursansvarlig:\n \n\nRuth Kirsti Stie\nSalgssjef\nruth.kirsti@varodd.no\n454 79 366\n\n 
URL:https://hjelpemidler.varodd.no/arrangement/webinar-lindelia-sykehjem-demens-og-velferdsteknologi/
LOCATION:Ulset
CATEGORIES:Webinar
ATTACH;FMTTYPE=image/jpeg:https://d38vpb7vfo5r61.cloudfront.net/wp-content/uploads/2023/09/04112642/Webinar-case-Lindelia-sykehjem-velferdsteknologi-2023.jpg
END:VEVENT
BEGIN:VEVENT
DTSTART;TZID=Europe/Oslo:20230926T100000
DTEND;TZID=Europe/Oslo:20230927T140000
DTSTAMP:20260424T013224
CREATED:20230503T115624Z
LAST-MODIFIED:20230918T090928Z
UID:6449-1695722400-1695823200@hjelpemidler.varodd.no
SUMMARY:Messe: Trondheim
DESCRIPTION:Hva: Midt-Norsk Hjelpemiddelmesse 2023 går av stabelen 26. og 27. september i Trondheim spektrum. Messen gjennomføres for ellevte gang. Som for de seks foregående messene er det Norges Handikapforbund Trøndelag er arrangør på vegne av leverandører av hjelpemidler. Hvert år presenteres hjelpemidler innen en rekke områder\, blant annet bevegelseshjelpemidler\, løft og forflytning\, hygiene\, IKT og syn og hørsel. \nNår: 26. september kl. 10:00-16:00 og 27. september kl. 09:00-14:00 \nHvor: Trondheim Spektrum (Klostergata 90\, 7030 Trondheim) \nPris: gratis inngang (åpent for alle) \n  \nLast ned invitasjon \n  \n\n  \nMeld deg på fellesvisning med Varodd Velferdsteknologi her:\n\n\n  \nNoen av hjelpemidlene som vises på messen:\n \n\n 
URL:https://hjelpemidler.varodd.no/arrangement/messe-trondheim/
LOCATION:Trondheim Spektrum\, Klostergata 90\, Trondheim\, 7030\, Norge
CATEGORIES:Messe
ATTACH;FMTTYPE=image/jpeg:https://d38vpb7vfo5r61.cloudfront.net/wp-content/uploads/2023/05/03135318/Midt-Norsk-Hjelpemiddelmesse-2023.jpg
END:VEVENT
BEGIN:VEVENT
DTSTART;TZID=Europe/Oslo:20230927T080000
DTEND;TZID=Europe/Oslo:20230927T170000
DTSTAMP:20260424T013224
CREATED:20230809T115917Z
LAST-MODIFIED:20230809T122235Z
UID:6818-1695801600-1695834000@hjelpemidler.varodd.no
SUMMARY:Åpen dag: Grimstad
DESCRIPTION:Hva: Arrangementet for deg som er interessert i hjelpemidler og velferdsteknologi som gjør at man kan mestre eget liv\, klare seg selv og bo hjemme lengst mulig. Eller som bare er nysgjerrig på hvilke produkter som finnes på markedet. \nNår: onsdag 27. september 2023\, kl. 12:00-14:00 \nHvor: I4Helse-bygget ved Uia (Jon Lilletuns vei 94879 Grimstad) \nPris: gratis inngang (åpen for publikum) \n  \nKlikk her for å se invitasjonen i PDF-format
URL:https://hjelpemidler.varodd.no/arrangement/apen-dag-grimstad/
LOCATION:I4Helse-bygget\, Campus Grimstad\, Jon Lilletuns vei 9\, Grimstad\, Agder\, 4879\, Norge
CATEGORIES:Messe
ATTACH;FMTTYPE=image/jpeg:https://d38vpb7vfo5r61.cloudfront.net/wp-content/uploads/2023/08/09141714/Apen-dag-Grimstad-september-2023.jpg
END:VEVENT
END:VCALENDAR