BEGIN:VCALENDAR
VERSION:2.0
PRODID:-//Varodd Velferdsteknologi - ECPv6.15.20//NONSGML v1.0//EN
CALSCALE:GREGORIAN
METHOD:PUBLISH
X-ORIGINAL-URL:https://hjelpemidler.varodd.no
X-WR-CALDESC:Arrangement for Varodd Velferdsteknologi
REFRESH-INTERVAL;VALUE=DURATION:PT1H
X-Robots-Tag:noindex
X-PUBLISHED-TTL:PT1H
BEGIN:VTIMEZONE
TZID:Europe/Oslo
BEGIN:DAYLIGHT
TZOFFSETFROM:+0100
TZOFFSETTO:+0200
TZNAME:CEST
DTSTART:20220327T010000
END:DAYLIGHT
BEGIN:STANDARD
TZOFFSETFROM:+0200
TZOFFSETTO:+0100
TZNAME:CET
DTSTART:20221030T010000
END:STANDARD
BEGIN:DAYLIGHT
TZOFFSETFROM:+0100
TZOFFSETTO:+0200
TZNAME:CEST
DTSTART:20230326T010000
END:DAYLIGHT
BEGIN:STANDARD
TZOFFSETFROM:+0200
TZOFFSETTO:+0100
TZNAME:CET
DTSTART:20231029T010000
END:STANDARD
BEGIN:DAYLIGHT
TZOFFSETFROM:+0100
TZOFFSETTO:+0200
TZNAME:CEST
DTSTART:20240331T010000
END:DAYLIGHT
BEGIN:STANDARD
TZOFFSETFROM:+0200
TZOFFSETTO:+0100
TZNAME:CET
DTSTART:20241027T010000
END:STANDARD
END:VTIMEZONE
BEGIN:VEVENT
DTSTART;TZID=Europe/Oslo:20231003T100000
DTEND;TZID=Europe/Oslo:20231003T160000
DTSTAMP:20260423T235544
CREATED:20230315T130428Z
LAST-MODIFIED:20230908T060758Z
UID:6184-1696327200-1696348800@hjelpemidler.varodd.no
SUMMARY:Messe: Bergen
DESCRIPTION:Hva: Årets hjelpemiddelmesse i Bergen går av stabelen 13. september i Vestlandshallen. Hjelpemiddelmessen Vestlandet er et samarbeid mellom hjelpemiddelleverandører og NAV Hjelpemiddelsentral. Hvert år presenteres hjelpemidler innen en rekke områder\, blant annet bevegelseshjelpemidler\, løft og forflytning\, hygiene\, IKT og syn og hørsel. Velkommen til en innholdsrik dag! \nNår: tirsdag 3. oktober 2023\, kl. 10:00-16:00 \nHvor: Vestlandshallen (Åsane Senter 58\, 5116 Ulset) \nPris: gratis inngang (åpen for publikum) \nKonkurranse: Det blir også trekning av 1 stk. iPad på inngangsbilletten. \n  \nLast ned invitasjon \n\n  \nMeld deg på fellesvisning med Varodd Velferdsteknologi her:\n\n\n  \nNoen av hjelpemidlene som vises på messen:
URL:https://hjelpemidler.varodd.no/arrangement/messe-bergen-2/
LOCATION:Vestlandshallen\, Åsane Senter 58\, Bergen\, Ulset\, 5116\, Norge
CATEGORIES:Messe
ATTACH;FMTTYPE=image/jpeg:https://d38vpb7vfo5r61.cloudfront.net/wp-content/uploads/2023/03/21144917/Hjelpemiddelmesse-2023-Bergen-Vestlandshallen.jpg
END:VEVENT
BEGIN:VEVENT
DTSTART;TZID=Europe/Oslo:20231005T100000
DTEND;TZID=Europe/Oslo:20231005T160000
DTSTAMP:20260423T235544
CREATED:20230315T130741Z
LAST-MODIFIED:20230906T080216Z
UID:6186-1696500000-1696521600@hjelpemidler.varodd.no
SUMMARY:Messe: Stavanger
DESCRIPTION:Hva: Årets hjelpemiddelmesse i Stavanger holdes 5. oktobeber på Forum Expo. Messen arrangeres på vegne av ledende leverandører innen tekniske hjelpemidler. Hvert år presenteres hjelpemidler innen en rekke områder\, blant annet bevegelseshjelpemidler\, løft og forflytning\, hygiene\, IKT og syn og hørsel. Det blir også trekning av premier – velkommen til en innholdsrik dag! \nNår: torsdag 5. oktober 2023\, kl. 10:00-16:00 \nHvor: Forum Expo Stavanger (Ishockeyveien 11\, 4021 Stavanger) \nPris: gratis inngang (åpen for publikum) \n  \nLast ned invitasjon \n  \n  \n\n  \nMeld deg på fellesvisning med Varodd Velferdsteknologi her:\n\n\n  \nNoen av hjelpemidlene som vises på messen:
URL:https://hjelpemidler.varodd.no/arrangement/messe-stavanger-2/
LOCATION:Forum Expo\, Ishockeyveien 11\, Stavanger\, 4021\, Norge
CATEGORIES:Messe
ATTACH;FMTTYPE=image/jpeg:https://d38vpb7vfo5r61.cloudfront.net/wp-content/uploads/2023/03/22133246/Hjelpemiddelmesse-2023-Stavanger-Forum-Expo.jpg
END:VEVENT
BEGIN:VEVENT
DTSTART;TZID=Europe/Oslo:20231017T081500
DTEND;TZID=Europe/Oslo:20231017T090000
DTSTAMP:20260423T235544
CREATED:20230928T064114Z
LAST-MODIFIED:20231012T062317Z
UID:7068-1697530500-1697533200@hjelpemidler.varodd.no
SUMMARY:Webinar-case: vendesystem i hjemmetjenesten
DESCRIPTION:Hvorfor ikke starte dagen med påfyll fra et brukerperspektiv? Bli med inn til Bente som forteller hvordan hun er blitt mer selvhjulpen med velferdsteknologi.\n  \nFå inspirasjon fra case-studie:\nBente har tetraplegi\, og er lam fra nakken og ned etter en ryggmargsskade fra en trafikkulykke i 1997. I senere tid deltok hun på en workshop\, arrangert av Dansk handicap Forbund\, hvor de testet elektronisk tilbehør som kan forebygge trykksår. Her fikk hun muligheten til å teste teknologien i eget hjem. Utprøvingen resulterte i at Bente tok kontakt med kommunen sin\, som umiddelbart innvilget søknaden. \nTemaene vi ønsker å sette fokus på er: \n\nHvordan Bente er blitt mer selvhjulpen\nForbedret livskvalitet for henne og ektefellen\nBedre søvnkvalitet og redusert antall spasmer\nUavhengighet og verdiget i hverdagen\n\n  \nKursdetaljer:\nHva: vendesystem i hjemmetjenesten \nNår: tirsdag 17. oktober kl. 8:15 – 9:00 \nHvor: Teams-webinar (lenke sendes på e-post etter registrering) \nMålgruppe: ansatte i hjemmetjenesten og heldøgnsomsorg \n  \nRegistrer meg \n  \n  \n\nVendesystem i hjemmetjenesten som vises på webinaret:\n \n  \n\n  \nPraktisk informasjon:\nKurset vil foregå på Teams og vil vare i 40-45 minutter. Det er ikke nødvendig å ha Teams for å delta\, men vi anbefaler å bruke Chrome som nettleser. Lenke til kurset blir sendt på e-post til påmeldte deltakere. \n  \n\n  \nKurset vil foregå via Teams:\n\nDet blir ikke gjort opptak av dette kurset\nDitt navn vil være synlig for andre deltagere i kurset\nDu kan selv velge om du vil ha på bilde/lyd av deg selv\nIngen deltagere har lov til å gjøre opptak av kurset som holdes\n\n  \n\n  \nKursansvarlig:\n \n\nRuth Kirsti Stie\nSalgssjef\nruth.kirsti@varodd.no\n454 79 366\n\n 
URL:https://hjelpemidler.varodd.no/arrangement/webinar-case-vendesystem-i-hjemmetjenesten/
LOCATION:Ulset
CATEGORIES:Webinar
ATTACH;FMTTYPE=image/jpeg:https://d38vpb7vfo5r61.cloudfront.net/wp-content/uploads/2023/09/28085828/webinar-vendesystem-case-17.okt-kl.815-900-2023-stor-header.jpg
END:VEVENT
END:VCALENDAR