BEGIN:VCALENDAR
VERSION:2.0
PRODID:-//Varodd Velferdsteknologi - ECPv6.15.20//NONSGML v1.0//EN
CALSCALE:GREGORIAN
METHOD:PUBLISH
X-ORIGINAL-URL:https://hjelpemidler.varodd.no
X-WR-CALDESC:Arrangement for Varodd Velferdsteknologi
REFRESH-INTERVAL;VALUE=DURATION:PT1H
X-Robots-Tag:noindex
X-PUBLISHED-TTL:PT1H
BEGIN:VTIMEZONE
TZID:Europe/Oslo
BEGIN:DAYLIGHT
TZOFFSETFROM:+0100
TZOFFSETTO:+0200
TZNAME:CEST
DTSTART:20220327T010000
END:DAYLIGHT
BEGIN:STANDARD
TZOFFSETFROM:+0200
TZOFFSETTO:+0100
TZNAME:CET
DTSTART:20221030T010000
END:STANDARD
BEGIN:DAYLIGHT
TZOFFSETFROM:+0100
TZOFFSETTO:+0200
TZNAME:CEST
DTSTART:20230326T010000
END:DAYLIGHT
BEGIN:STANDARD
TZOFFSETFROM:+0200
TZOFFSETTO:+0100
TZNAME:CET
DTSTART:20231029T010000
END:STANDARD
BEGIN:DAYLIGHT
TZOFFSETFROM:+0100
TZOFFSETTO:+0200
TZNAME:CEST
DTSTART:20240331T010000
END:DAYLIGHT
BEGIN:STANDARD
TZOFFSETFROM:+0200
TZOFFSETTO:+0100
TZNAME:CET
DTSTART:20241027T010000
END:STANDARD
END:VTIMEZONE
BEGIN:VEVENT
DTSTART;TZID=Europe/Oslo:20231113T093000
DTEND;TZID=Europe/Oslo:20231113T143000
DTSTAMP:20260423T223929
CREATED:20231031T062924Z
LAST-MODIFIED:20231031T130833Z
UID:7147-1699867800-1699885800@hjelpemidler.varodd.no
SUMMARY:Messe: Oslo
DESCRIPTION:Hva: Eurovema\, Varodd Velferdsteknologi\, Hepro\, Hjelpemiddelpartner\, br|ström\, Øvrebø Rehabilitering\, Alu Rehab og Cantec går sammen om felles visningsdager for å gi deg mulighet til å få oppdatert deg på hva markedet tilbyr. I tillegg til faglig påfyll spanderer vi lunsj. Kom å få en hyggelig stund sammen med andre på ditt fagområde. \nNår: mandag 13. november 2023\, kl. 09.30-14.30 \nHvor: Quality Hotel 33 (Østre Aker vei 33\, 0581 Oslo) \nPåmelding: Pga. bevertning må vi vite hvor mange som skal ha lunsj\, gi beskjed på e-post til: jis@hepro.no innen fredag 3. november. \n  \nLast ned invitasjon
URL:https://hjelpemidler.varodd.no/arrangement/messe-oslo-5/
LOCATION:Quality Hotel 33\, Østre Aker vei 33\, Oslo\, 0581\, Norge
CATEGORIES:Messe
ATTACH;FMTTYPE=image/jpeg:https://d38vpb7vfo5r61.cloudfront.net/wp-content/uploads/2023/10/31074521/Effektiv-visningsdag-Oslo-november-2023.jpg
END:VEVENT
BEGIN:VEVENT
DTSTART;TZID=Europe/Oslo:20231114T093000
DTEND;TZID=Europe/Oslo:20231114T143000
DTSTAMP:20260423T223929
CREATED:20231031T062958Z
LAST-MODIFIED:20231031T130811Z
UID:7148-1699954200-1699972200@hjelpemidler.varodd.no
SUMMARY:Messe: Sarpsborg
DESCRIPTION:Hva: Eurovema\, Varodd Velferdsteknologi\, Hepro\, Hjelpemiddelpartner\, br|ström\, Øvrebø Rehabilitering\, Alu Rehab og Cantec går sammen om felles visningsdager for å gi deg mulighet til å få oppdatert deg på hva markedet tilbyr. I tillegg til faglig påfyll spanderer vi lunsj. Kom å få en hyggelig stund sammen med andre på ditt fagområde. \nNår: tirsdag 14. november 2023\, kl. 09.30-14.30 \nHvor: Quality Hotel Sarpsborg (Bjørnstadveien 12\, 1712 Grålum) \nPåmelding: Pga. bevertning må vi vite hvor mange som skal ha lunsj\, gi beskjed på e-post til: jis@hepro.no innen fredag 3. november. \n  \nLast ned invitasjon
URL:https://hjelpemidler.varodd.no/arrangement/messe-sarpsborg-2/
LOCATION:Quality Hotel Sarpsborg\, Bjørnstadveien 12\, Grålum\, 1712\, Norge
CATEGORIES:Messe
ATTACH;FMTTYPE=image/jpeg:https://d38vpb7vfo5r61.cloudfront.net/wp-content/uploads/2023/10/31074452/Effektiv-visningsdag-Saprsborg-november-2023.jpg
END:VEVENT
BEGIN:VEVENT
DTSTART;TZID=Europe/Oslo:20231115T093000
DTEND;TZID=Europe/Oslo:20231115T143000
DTSTAMP:20260423T223929
CREATED:20231031T063004Z
LAST-MODIFIED:20231031T130736Z
UID:7145-1700040600-1700058600@hjelpemidler.varodd.no
SUMMARY:Messe: Lillestrøm
DESCRIPTION:Hva: Eurovema\, Varodd Velferdsteknologi\, Hepro\, Hjelpemiddelpartner\, br|ström\, Øvrebø Rehabilitering\, Alu Rehab og Cantec går sammen om felles visningsdager for å gi deg mulighet til å få oppdatert deg på hva markedet tilbyr. I tillegg til faglig påfyll spanderer vi lunsj. Kom å få en hyggelig stund sammen med andre på ditt fagområde. \nNår: onsdag 15. november 2023\, kl. 09.30-14.30 \nHvor: Quality hotel Olavsgaard (Hvamstubben 11\, 2013 Skjetten) \nPåmelding: Pga. bevertning må vi vite hvor mange som skal ha lunsj\, gi beskjed på e-post til: jis@hepro.no innen fredag 3. november. \n  \nLast ned invitasjon
URL:https://hjelpemidler.varodd.no/arrangement/messe-lillestrom/
LOCATION:Quality Hotel Olavsgaard\, Hvamstubben 11\, Skjetten\, 2013\, Norge
CATEGORIES:Messe
ATTACH;FMTTYPE=image/jpeg:https://d38vpb7vfo5r61.cloudfront.net/wp-content/uploads/2023/10/31074454/Effektiv-visningsdag-Lillestrom-november-2023.jpg
END:VEVENT
BEGIN:VEVENT
DTSTART;TZID=Europe/Oslo:20231121T090000
DTEND;TZID=Europe/Oslo:20231121T094500
DTSTAMP:20260423T223929
CREATED:20231108T134843Z
LAST-MODIFIED:20231108T134843Z
UID:7178-1700557200-1700559900@hjelpemidler.varodd.no
SUMMARY:Webinar: teknisk kurs
DESCRIPTION:Når teknikeren på huset inviterer til webinar – da gjelder det å følge med! Han har i høst besøkt flere messer for å undersøke hva dere lurer på.\n  \nDu spør – vi svarer:\nHør hva andre i din rolle lurer på. I dette webinaret svarer service- og ettermarkedsansvarlig Jan-Erik Moen\, på spørsmål som han får ukentlig. Han forteller også hvordan man konkret går frem for å løse ulike problemstillinger. \n  \nUtvalgte temaer:\n\nTurnAidT4 på Opus EW – montering\, feilsøking og motorbytte på TurnAid\nOpus 90EW HS – hvordan demontere overdel for transport med Rasmus\nAerolet – feilsøking montering av høydeadapter\n\n  \nKursdetaljer:\nHva: Teknisk kurs \nNår: tirsdag 21. november kl. 9:00 – 9:45 \nHvor: Teams-webinar (lenke sendes på e-post etter registrering) \nMålgruppe: teknikere og ansatte som jobber med hjelpemidler på rammeavtale \n  \nRegistrer meg \n  \n  \n\nTeknisk kurs vil gjennomgå spørsmål om disse produktene i webinaret:\n \n  \n\n  \nPraktisk informasjon:\nKurset vil foregå på Teams og vil vare i 40-45 minutter. Det er ikke nødvendig å ha Teams for å delta\, men vi anbefaler å bruke Chrome som nettleser. Lenke til kurset blir sendt på e-post til påmeldte deltakere. \n  \n\n  \nKurset vil foregå via Teams:\n\nDet blir ikke gjort opptak av dette kurset\nDitt navn vil være synlig for andre deltagere i kurset\nDu kan selv velge om du vil ha på bilde/lyd av deg selv\nIngen deltagere har lov til å gjøre opptak av kurset som holdes\n\n  \n\n  \nKursansvarlig:\n \n\nJan-Erik Moen\nService- og ettermarkedsansvarlig\njan-erik@varodd.no\n(+47) 971 47 246\n\n 
URL:https://hjelpemidler.varodd.no/arrangement/webinar-teknisk-kurs/
LOCATION:Ulset
CATEGORIES:Webinar
ATTACH;FMTTYPE=image/jpeg:https://d38vpb7vfo5r61.cloudfront.net/wp-content/uploads/2023/11/02103334/webinar-teknisk-21.nov-kl.900-945-2023-stor-header.jpg
END:VEVENT
BEGIN:VEVENT
DTSTART;TZID=Europe/Oslo:20231121T100000
DTEND;TZID=Europe/Oslo:20231121T140000
DTSTAMP:20260423T223929
CREATED:20231031T130338Z
LAST-MODIFIED:20231031T130636Z
UID:7169-1700560800-1700575200@hjelpemidler.varodd.no
SUMMARY:Messe: Porsgrunn
DESCRIPTION:Hva: Medemagruppen\, Hepro\, Øvrebø Rehabilitering\, Sunrise Medical\, Invacare\, Varodd Velferdsteknologi\, BanoLife og Permobil går sammen om å arrangere Fagdag for å gi deg mulighet til å få oppdatert deg på hva markedet tilbyr. I tillegg til faglig påfyll spanderer vi lunsj. Kom å få en hyggelig stund sammen med andre på ditt fagområde. \nNår: tirsdag 21. november 2023\, kl. 10:00-14:00 \nHvor: Kafeé K (Storgata 174 C\, 3915 Porsgrunn) \nLunsj: serveres fra ca. kl. 12:00 \nPåmelding: Pga. bevertning må vi vite hvor mange som skal ha lunsj\, gi beskjed på e-post til: tejohans@invacare.com innen fredag 10. november 2023. \n  \nLast ned invitasjon
URL:https://hjelpemidler.varodd.no/arrangement/messe-porsgrunn-2/
LOCATION:Kafe K\, Storgata 174 C\, Porsgrunn\, 3915\, Norge
CATEGORIES:Messe
ATTACH;FMTTYPE=image/jpeg:https://d38vpb7vfo5r61.cloudfront.net/wp-content/uploads/2023/10/31135134/Fagdag-Porsgrunn-november-2023.jpg
END:VEVENT
BEGIN:VEVENT
DTSTART;TZID=Europe/Oslo:20231122T090000
DTEND;TZID=Europe/Oslo:20231123T150000
DTSTAMP:20260423T223929
CREATED:20231031T124602Z
LAST-MODIFIED:20231031T130700Z
UID:7162-1700643600-1700751600@hjelpemidler.varodd.no
SUMMARY:Messe: Kristiansand
DESCRIPTION:Hva: Øvrebø Rehabilitering\, Varodd Velferdsteknologi\, BanoLife\, Permobil\, Medema-gruppen\, Picomed\, Hepro\, Made for Movement og Panthera går sammen om felles visningsdager for å gi deg mulighet til å få oppdatert deg på hva markedet tilbyr. I tillegg til faglig påfyll spanderer vi lunsj. Kom å få en hyggelig stund sammen med andre på ditt fagområde. \nNår: onsdag 22. og torsdag 23. november 2023\, kl. 09-15 \nJuleunsj: serveres kl. 12:00 \nHvor: Scandic Sørlandet (Travparkveien 14\, 4636 Kristiansand) \nPåmelding: Pga. bevertning må vi vite hvor mange som skal ha julelunsj\, gi beskjed på e-post til: maren.ovrebo@ovrebo.no innen 10. november. \n  \nLast ned invitasjon
URL:https://hjelpemidler.varodd.no/arrangement/messe-kristiansand-5/
LOCATION:Scandic Sørlandet\, Travparkveien 14\, Kristiansand\, 4636\, Norge
CATEGORIES:Messe
ATTACH;FMTTYPE=image/jpeg:https://d38vpb7vfo5r61.cloudfront.net/wp-content/uploads/2023/10/31135136/Effektive-visningsdager-Kristiansand-november-2023.jpg
END:VEVENT
END:VCALENDAR