BEGIN:VCALENDAR
VERSION:2.0
PRODID:-//Varodd Velferdsteknologi - ECPv6.15.20//NONSGML v1.0//EN
CALSCALE:GREGORIAN
METHOD:PUBLISH
X-ORIGINAL-URL:https://hjelpemidler.varodd.no
X-WR-CALDESC:Arrangement for Varodd Velferdsteknologi
REFRESH-INTERVAL;VALUE=DURATION:PT1H
X-Robots-Tag:noindex
X-PUBLISHED-TTL:PT1H
BEGIN:VTIMEZONE
TZID:Europe/Oslo
BEGIN:DAYLIGHT
TZOFFSETFROM:+0100
TZOFFSETTO:+0200
TZNAME:CEST
DTSTART:20220327T010000
END:DAYLIGHT
BEGIN:STANDARD
TZOFFSETFROM:+0200
TZOFFSETTO:+0100
TZNAME:CET
DTSTART:20221030T010000
END:STANDARD
BEGIN:DAYLIGHT
TZOFFSETFROM:+0100
TZOFFSETTO:+0200
TZNAME:CEST
DTSTART:20230326T010000
END:DAYLIGHT
BEGIN:STANDARD
TZOFFSETFROM:+0200
TZOFFSETTO:+0100
TZNAME:CET
DTSTART:20231029T010000
END:STANDARD
BEGIN:DAYLIGHT
TZOFFSETFROM:+0100
TZOFFSETTO:+0200
TZNAME:CEST
DTSTART:20240331T010000
END:DAYLIGHT
BEGIN:STANDARD
TZOFFSETFROM:+0200
TZOFFSETTO:+0100
TZNAME:CET
DTSTART:20241027T010000
END:STANDARD
END:VTIMEZONE
BEGIN:VEVENT
DTSTART;TZID=Europe/Oslo:20231205T093000
DTEND;TZID=Europe/Oslo:20231205T163000
DTSTAMP:20260423T205753
CREATED:20231103T082853Z
LAST-MODIFIED:20231103T115639Z
UID:7210-1701768600-1701793800@hjelpemidler.varodd.no
SUMMARY:Messe: Tønsberg
DESCRIPTION:Hva: Permobil\, Øvrebø Rehabilitering\, Invacare\, Sunrise Medical\, BanoLife\, Varodd Velferdsteknologi\, Hepro og MedemaGruppen går sammen om felles hjelpemiddeltreff for å gi deg mulighet til å få oppdatert deg på hva markedet tilbyr. I tillegg til faglig påfyll spanderer vi lunsj. Kom å få en hyggelig stund sammen med andre på ditt fagområde. \nNår: tirsdag 05. desember 2023\, kl. 09:30-14:30 \nFørjulslunsj: serveres kl. 12:00 \nHvor: Nauen klokkemuseum (Åshaugveien 168\, 3157 Barkåker) \nGave: Ved ankomst mottar du et deltakerark. De som ved kvittering på arket kan dokumentere å ha besøkt alle firmaene\, deltar i trekningen av en førjulsgave. \nPåmelding: Pga. bevertning må vi vite hvor mange som skal ha førjulslunsj\, meld deg på nedenfor innen 30. november 2023. \n  \nMeld deg på her
URL:https://hjelpemidler.varodd.no/arrangement/messe-tonsberg/
LOCATION:Nauen klokkemuseum\, Åshaugveien 168\, Barkåker\, 3157\, Norge
CATEGORIES:Messe
ATTACH;FMTTYPE=image/jpeg:https://d38vpb7vfo5r61.cloudfront.net/wp-content/uploads/2023/11/03092744/Hjelpemiddeltreffet-Nauen-desember-2023.jpg
END:VEVENT
BEGIN:VEVENT
DTSTART;TZID=Europe/Oslo:20231218T140000
DTEND;TZID=Europe/Oslo:20231218T144500
DTSTAMP:20260423T205753
CREATED:20231208T133201Z
LAST-MODIFIED:20231212T065212Z
UID:7257-1702908000-1702910700@hjelpemidler.varodd.no
SUMMARY:Webinar: madrasser
DESCRIPTION:Trykksår kan enkelt forebygges når man har tilgang til de rette hjelpemidlene. Men hvilken madrasstype forebygger trykksår best?\nDet finnes ulike madrasser til trykksårforebygging. I dette webinaret tar vi en gjennomgang av tre ulike madrasstyper og hvordan velge riktig trykkfordelene underlag til den enkelte brukeren. Vi viser også hvordan man sikrer at madrasshøyden og sengegrindene passer sammen. \n  \nProdukter:\n\nCare – helmadrass i skum\nProcare Auto – dynamisk helmadrass\nDomus Auto – dynamsisk overmadrass\nTurnAll – vendesystem\n\n  \nKursdetaljer:\nHva: Webinar om madrasser \nNår: mandag 18. desember kl. 14:00 – 14:45 \nHvor: Teams-webinar (lenke sendes på e-post etter registrering) \nMålgruppe: alle som jobber med trykksårforebygging \n  \nRegistrer meg \n  \n  \n\nVi presenterer disse produktene i webinaret:\n \n  \n\n  \nPraktisk informasjon:\nKurset vil foregå på Teams og vil vare i 40-45 minutter. Det er ikke nødvendig å ha Teams for å delta\, men vi anbefaler å bruke Chrome som nettleser. Lenke til kurset blir sendt på e-post til påmeldte deltakere. \n  \n\n  \nKurset vil foregå via Teams:\n\nDet blir ikke gjort opptak av dette kurset\nDitt navn vil være synlig for andre deltagere i kurset\nDu kan selv velge om du vil ha på bilde/lyd av deg selv\nIngen deltagere har lov til å gjøre opptak av kurset som holdes\n\n  \n\n  \nKursansvarlig:\n \n\nRuth Kirsti Stie\nSalgssjef\nruth.kirsti@varodd.no\n454 79 366\n\n 
URL:https://hjelpemidler.varodd.no/arrangement/webinar-madrasser/
LOCATION:Ulset
CATEGORIES:Webinar
ATTACH;FMTTYPE=image/jpeg:https://d38vpb7vfo5r61.cloudfront.net/wp-content/uploads/2023/11/15114439/webinar-madreasser-18.des-2023-stor-header.jpg
END:VEVENT
END:VCALENDAR