BEGIN:VCALENDAR
VERSION:2.0
PRODID:-//Varodd Velferdsteknologi - ECPv6.15.20//NONSGML v1.0//EN
CALSCALE:GREGORIAN
METHOD:PUBLISH
X-WR-CALNAME:Varodd Velferdsteknologi
X-ORIGINAL-URL:https://hjelpemidler.varodd.no
X-WR-CALDESC:Arrangement for Varodd Velferdsteknologi
REFRESH-INTERVAL;VALUE=DURATION:PT1H
X-Robots-Tag:noindex
X-PUBLISHED-TTL:PT1H
BEGIN:VTIMEZONE
TZID:Europe/Oslo
BEGIN:DAYLIGHT
TZOFFSETFROM:+0100
TZOFFSETTO:+0200
TZNAME:CEST
DTSTART:20230326T010000
END:DAYLIGHT
BEGIN:STANDARD
TZOFFSETFROM:+0200
TZOFFSETTO:+0100
TZNAME:CET
DTSTART:20231029T010000
END:STANDARD
BEGIN:DAYLIGHT
TZOFFSETFROM:+0100
TZOFFSETTO:+0200
TZNAME:CEST
DTSTART:20240331T010000
END:DAYLIGHT
BEGIN:STANDARD
TZOFFSETFROM:+0200
TZOFFSETTO:+0100
TZNAME:CET
DTSTART:20241027T010000
END:STANDARD
BEGIN:DAYLIGHT
TZOFFSETFROM:+0100
TZOFFSETTO:+0200
TZNAME:CEST
DTSTART:20250330T010000
END:DAYLIGHT
BEGIN:STANDARD
TZOFFSETFROM:+0200
TZOFFSETTO:+0100
TZNAME:CET
DTSTART:20251026T010000
END:STANDARD
END:VTIMEZONE
BEGIN:VEVENT
DTSTART;TZID=Europe/Oslo:20241210T090000
DTEND;TZID=Europe/Oslo:20241210T093000
DTSTAMP:20260423T022306
CREATED:20241202T135104Z
LAST-MODIFIED:20241203T091155Z
UID:8657-1733821200-1733823000@hjelpemidler.varodd.no
SUMMARY:Webinar: gevinster med Careturner og Turn All
DESCRIPTION:Hva: Lær hvordan Careturner og Turn Alll kan gi betydelige gevinster for helse- og omsorgssektoren. Dette webinaret passer for deg som er interessert i hvordan teknologi kan bidra til bedre omsorg\, effektivisering og en lettere arbeidshverdag. I dette webinaret deler Vidar Grimsen fra Asker kommune erfaringer fra hverdagen fra de ulike sykehjemmene i kommunen. \nNår: tirsdag 10. desember 2024\, kl. 9:00-9:30 \nHvor: Teams-webinar (lenke sendes på e-post etter registrering) \nPris: gratis (åpen for publikum) \n  \nMeld deg på her \n  \n  \n\n  \nHva kan du forvente:\n\nIntroduksjon til vendesystemene Careturner og Turn All\nHvordan skape gevinster med Careturner og Turn All i omsorgssektoren\nErfaringer fra organisasjoner i praksis\nÅpen spørsmålsrunde\n\n  \n\n  \nPraktisk informasjon:\nKurset vil foregå på Teams og vil vare i ca. 30 minutter. Det er ikke nødvendig å ha Teams for å delta\, men vi anbefaler å bruke Chrome som nettleser. Lenke til kurset blir sendt på e-post til påmeldte deltakere. \n  \n\n  \nKurset vil foregå via Teams:\n\nDet blir ikke gjort opptak av dette kurset\nDitt navn vil være synlig for andre deltagere i kurset\nDu kan selv velge om du vil ha på bilde/lyd av deg selv\nIngen deltagere har lov til å gjøre opptak av kurset som holdes\n\n  \n\n  \nKursansvarlig:\n \n\nRuth Kirsti Stie\nSalgssjef\nruth.kirsti@varodd.no\n902 50 855\n\n 
URL:https://hjelpemidler.varodd.no/arrangement/webinar-gevinster-med-careturner-og-turn-all/
LOCATION:Ulset
CATEGORIES:Webinar
ATTACH;FMTTYPE=image/jpeg:https://d38vpb7vfo5r61.cloudfront.net/wp-content/uploads/2024/12/02144045/Webinar-Careturner-Turn-All.jpg
END:VEVENT
END:VCALENDAR