BEGIN:VCALENDAR
VERSION:2.0
PRODID:-//Varodd Velferdsteknologi - ECPv6.15.20//NONSGML v1.0//EN
CALSCALE:GREGORIAN
METHOD:PUBLISH
X-WR-CALNAME:Varodd Velferdsteknologi
X-ORIGINAL-URL:https://hjelpemidler.varodd.no
X-WR-CALDESC:Arrangement for Varodd Velferdsteknologi
REFRESH-INTERVAL;VALUE=DURATION:PT1H
X-Robots-Tag:noindex
X-PUBLISHED-TTL:PT1H
BEGIN:VTIMEZONE
TZID:Europe/Paris
BEGIN:DAYLIGHT
TZOFFSETFROM:+0100
TZOFFSETTO:+0200
TZNAME:CEST
DTSTART:20240331T010000
END:DAYLIGHT
BEGIN:STANDARD
TZOFFSETFROM:+0200
TZOFFSETTO:+0100
TZNAME:CET
DTSTART:20241027T010000
END:STANDARD
BEGIN:DAYLIGHT
TZOFFSETFROM:+0100
TZOFFSETTO:+0200
TZNAME:CEST
DTSTART:20250330T010000
END:DAYLIGHT
BEGIN:STANDARD
TZOFFSETFROM:+0200
TZOFFSETTO:+0100
TZNAME:CET
DTSTART:20251026T010000
END:STANDARD
BEGIN:DAYLIGHT
TZOFFSETFROM:+0100
TZOFFSETTO:+0200
TZNAME:CEST
DTSTART:20260329T010000
END:DAYLIGHT
BEGIN:STANDARD
TZOFFSETFROM:+0200
TZOFFSETTO:+0100
TZNAME:CET
DTSTART:20261025T010000
END:STANDARD
END:VTIMEZONE
BEGIN:VTIMEZONE
TZID:Europe/Oslo
BEGIN:DAYLIGHT
TZOFFSETFROM:+0100
TZOFFSETTO:+0200
TZNAME:CEST
DTSTART:20240331T010000
END:DAYLIGHT
BEGIN:STANDARD
TZOFFSETFROM:+0200
TZOFFSETTO:+0100
TZNAME:CET
DTSTART:20241027T010000
END:STANDARD
BEGIN:DAYLIGHT
TZOFFSETFROM:+0100
TZOFFSETTO:+0200
TZNAME:CEST
DTSTART:20250330T010000
END:DAYLIGHT
BEGIN:STANDARD
TZOFFSETFROM:+0200
TZOFFSETTO:+0100
TZNAME:CET
DTSTART:20251026T010000
END:STANDARD
BEGIN:DAYLIGHT
TZOFFSETFROM:+0100
TZOFFSETTO:+0200
TZNAME:CEST
DTSTART:20260329T010000
END:DAYLIGHT
BEGIN:STANDARD
TZOFFSETFROM:+0200
TZOFFSETTO:+0100
TZNAME:CET
DTSTART:20261025T010000
END:STANDARD
END:VTIMEZONE
BEGIN:VEVENT
DTSTART;TZID=Europe/Paris:20250506T100000
DTEND;TZID=Europe/Paris:20250506T150000
DTSTAMP:20260422T185038
CREATED:20220112T212019Z
LAST-MODIFIED:20241129T135419Z
UID:1689-1746525600-1746543600@hjelpemidler.varodd.no
SUMMARY:Messe: Skien
DESCRIPTION:Hva: Årets messe i Skien går av stabelen 6. mai i Skien Fritidspark. Hjelpemiddelmessen Sør-Øst er arrangør\, på vegne av ledende leverandører av hjelpemidler. Hvert år presenteres hjelpemidler innen en rekke områder\, blant annet bevegelseshjelpemidler\, løft og forflytning\, hygiene\, IKT og syn og hørsel. Det blir også enkel servering – velkommen til en innholdsrik dag! \nNår: tirsdag 6. mai 2025\, kl. 10:00-15:00 \nHvor: Skien Fritidspark (Moflatvegen 38\, 3733 Skien) \nPris: gratis inngang (ingen påmelding) \n  \nLast ned invitasjon som PDF
URL:https://hjelpemidler.varodd.no/arrangement/messe-skien/
LOCATION:Skien fritidspark\, Moflatvegen 38\, Skien\, 3733
CATEGORIES:Messe
ATTACH;FMTTYPE=image/jpeg:https://d38vpb7vfo5r61.cloudfront.net/wp-content/uploads/2022/01/08120118/Hjelpemiddelmesse-Sor-Ost-2025-i-Skien.jpg
END:VEVENT
BEGIN:VEVENT
DTSTART;TZID=Europe/Paris:20250507T100000
DTEND;TZID=Europe/Paris:20250507T150000
DTSTAMP:20260422T185038
CREATED:20220112T212540Z
LAST-MODIFIED:20241129T135401Z
UID:1693-1746612000-1746630000@hjelpemidler.varodd.no
SUMMARY:Messe: Drammen
DESCRIPTION:Hva: Årets messe i Drammen går av stabelen 7. mai i Drammenshallen. Hjelpemiddelmessen Sør-Øst er arrangør\, på vegne av ledende leverandører av hjelpemidler. Hvert år presenteres hjelpemidler innen en rekke områder\, blant annet bevegelseshjelpemidler\, løft og forflytning\, hygiene\, IKT og syn og hørsel. Det blir også enkel servering – velkommen til en innholdsrik dag! \nNår: onsdag 7. mai 2025\, kl. 10:00-15:00 \nHvor: Drammenshallen (Knoffs gate 18\, 3044 Drammen) \nPris: gratis inngang (ingen påmelding) \n  \nLast ned invitasjon som PDF
URL:https://hjelpemidler.varodd.no/arrangement/messe-drammen/
LOCATION:Drammenshallen\, Knoffs gate 18\, Drammen\, 3044\, Norge
CATEGORIES:Messe
ATTACH;FMTTYPE=image/jpeg:https://d38vpb7vfo5r61.cloudfront.net/wp-content/uploads/2022/01/08122713/Hjelpemiddelmesse-Sor-Ost-2025-i-Drammen.jpg
END:VEVENT
BEGIN:VEVENT
DTSTART;TZID=Europe/Oslo:20250507T110000
DTEND;TZID=Europe/Oslo:20250507T140000
DTSTAMP:20260422T185038
CREATED:20250221T132052Z
LAST-MODIFIED:20250320T104040Z
UID:9064-1746615600-1746626400@hjelpemidler.varodd.no
SUMMARY:Minimesse: Nord-Trøndelag
DESCRIPTION:Velkommen til Minimesse Namdal Rehab 2025\nAlle leverandørene har hovedsakelig med produkter som er på avtale med NAV.\n📅 Dato: onsdag 7. mai 2025\n⏰ Tid: kl. 11:00–14:00\n🥪Lunsj: for å sikre servering av lunsj må vi vite hvor mange som kommer\n📍 Sted: Namdal Rehabilitering (Gartlandsveien 10\, 7877 Høylandet) \nMeld deg på her \n  \nPraktisk informasjon\n\nHusk påmelding innen 2. mai 2025\nGratis lunsj til alle påmeldte\n\n  \nHvem passer messen for?\nMinimesse Namdal Rehab 2025 er åpen for alle med interesse for hjelpemidler: \n\nSkole- og barnehageansatte\nHelsepersonell\nHjemmetjenesten\nTeknikere\nBrukere\, pårørende og assistenter\n\nVelkommen til en dag full av inspirasjon og nyttig informasjon!
URL:https://hjelpemidler.varodd.no/arrangement/minimesse-nord-trondelag/
LOCATION:Namdal Rehabilitering\, Gartlandsveien 10\, Høylandet\, 7877\, Norway
CATEGORIES:Messe
ATTACH;FMTTYPE=image/png:https://d38vpb7vfo5r61.cloudfront.net/wp-content/uploads/2025/02/20114009/Minimesse-Namdal-Rehab-mai-2025.png
END:VEVENT
BEGIN:VEVENT
DTSTART;TZID=Europe/Paris:20250508T100000
DTEND;TZID=Europe/Paris:20250508T150000
DTSTAMP:20260422T185038
CREATED:20220112T211519Z
LAST-MODIFIED:20241129T135446Z
UID:1686-1746698400-1746716400@hjelpemidler.varodd.no
SUMMARY:Messe: Kristiansand
DESCRIPTION:Hva: Årets messe på Sørlandet går av stabelen 8. mai i Sørlandshallen. Hjelpemiddelmessen Sør-Øst er arrangør\, på vegne av ledende leverandører av hjelpemidler. Hvert år presenteres hjelpemidler innen en rekke områder\, blant annet bevegelseshjelpemidler\, løft og forflytning\, hygiene\, IKT og syn og hørsel. Det blir også enkel servering – velkommen til en innholdsrik dag! \nNår: torsdag 8. mai 2025\, kl. 10:00-15:00 \nHvor: Sørlandshallen (Travparkveien 24\, 4636 Kristiansand) \nPris: gratis inngang (ingen påmelding) \nParkering: Det er rikelig med parkering\, kort vei fra hovedinngangen. Følg skilting inn til Sørlandshallen. \n  \nLast ned invitasjon som PDF \n  \n  \n\n  \n\nFoto: Varodd Velferdsteknologi.
URL:https://hjelpemidler.varodd.no/arrangement/messe-kristiansand/
LOCATION:Sørlandshallen\, Travparkveien 24\, Kristiansand\, Agder\, 4636\, Norge
CATEGORIES:Messe
ATTACH;FMTTYPE=image/jpeg:https://d38vpb7vfo5r61.cloudfront.net/wp-content/uploads/2022/01/08124658/Hjelpemiddelmesse-Sor-Ost-2025-i-Kristiansand.jpg
END:VEVENT
BEGIN:VEVENT
DTSTART;TZID=Europe/Paris:20250513T100000
DTEND;TZID=Europe/Paris:20250513T150000
DTSTAMP:20260422T185038
CREATED:20220112T213004Z
LAST-MODIFIED:20241129T140228Z
UID:1699-1747130400-1747148400@hjelpemidler.varodd.no
SUMMARY:Messe: Oslo
DESCRIPTION:Hva: Årets hjelpemiddelmesse i Oslo går av stabelen 13. mai i Ekeberghallen. Hjelpemiddelmessen Sør-Øst er arrangør\, på vegne av ledende leverandører av hjelpemidler. Hvert år presenteres hjelpemidler innen en rekke områder\, blant annet bevegelseshjelpemidler\, løft og forflytning\, hygiene\, IKT og syn og hørsel. Det blir også enkel servering – velkommen til en innholdsrik dag! \nNår: tirsdag 13. mai 2025\, kl. 10:00-15:00 \nHvor: Ekeberghallen (Ekebergveien 101\, 1178 Oslo) \nPris: gratis inngang (ingen påmelding) \nParkering: Begrenset antall parkeringsplasser\, det anbefales å benytte offentlig transport \n  \nLast ned invitasjon som PDF \n 
URL:https://hjelpemidler.varodd.no/arrangement/messe-oslo/
LOCATION:Ekeberghallen\, Ekebergveien 101\, Oslo\, 1178\, Norge
CATEGORIES:Messe
ATTACH;FMTTYPE=image/jpeg:https://d38vpb7vfo5r61.cloudfront.net/wp-content/uploads/2022/01/08132039/Hjelpemiddelmesse-Sor-Ost-2025-i-Oslo.jpg
END:VEVENT
BEGIN:VEVENT
DTSTART;TZID=Europe/Paris:20250514T100000
DTEND;TZID=Europe/Paris:20250514T150000
DTSTAMP:20260422T185038
CREATED:20220112T213439Z
LAST-MODIFIED:20241129T140252Z
UID:1702-1747216800-1747234800@hjelpemidler.varodd.no
SUMMARY:Messe: Fredrikstad
DESCRIPTION:Hva: Årets hjelpemiddelmesse i Fredrikstad går av stabelen 14. mai i Kongstenhallen. Hjelpemiddelmessen Sør-Øst er arrangør\, på vegne av ledende leverandører av hjelpemidler. Hvert år presenteres hjelpemidler innen en rekke områder\, blant annet bevegelseshjelpemidler\, løft og forflytning\, hygiene\, IKT og syn og hørsel. Det blir også enkel servering – velkommen til en innholdsrik dag! \nNår: onsdag 14. mai 2025\, kl. 10:00-15:00 \nHvor: Kongstenhallen (Torsnesveien 12\, 1630 Gamle Fredrikstad) \nPris: gratis inngang (ingen påmelding) \nParkering: Det er rikelig med parkering\, kort vei fra hovedinngangen. Følg skilting inn til Kongstenhallen \n  \nLast ned invitasjon som PDF
URL:https://hjelpemidler.varodd.no/arrangement/messe-fredrikstad/
LOCATION:Installatøren Arena\, Torsnesveien 12\, Gamle Fredrikstad\, 1630
CATEGORIES:Messe
ATTACH;FMTTYPE=image/jpeg:https://d38vpb7vfo5r61.cloudfront.net/wp-content/uploads/2022/01/08133556/Hjelpemiddelmesse-Sor-Ost-2025-i-Fredrikstad.jpg
END:VEVENT
BEGIN:VEVENT
DTSTART;TZID=Europe/Oslo:20250522T100000
DTEND;TZID=Europe/Oslo:20250522T150000
DTSTAMP:20260422T185038
CREATED:20250127T081220Z
LAST-MODIFIED:20250204T105708Z
UID:8860-1747908000-1747926000@hjelpemidler.varodd.no
SUMMARY:Messe: Trondheim
DESCRIPTION:Velkommen til Midt-Norsk Hjelpemiddelmesse 2025\nBli med på en spennende dag hvor du kan utforske det nyeste innen hjelpemidler\n📅 Dato: Torsdag 22. mai 2025\n⏰ Tid: Kl. 10:00–15:00\n📍 Sted: Utleirahallen (Utleirvegen 99\, 7036 Trondheim) \n  \nHva kan du oppleve?\n\nCa. 50 utstillere innen aktivitet\, forflytning\, syn\, hørsel\, kommunikasjon (ASK)\, BPA og mer\nNAV Hjelpemiddelsentral vil også være til stede med egen stand\n\n  \nHvem passer messen for?\nMidt-Norsk Hjelpemiddelmesse 2025 er åpen for alle med interesse for hjelpemidler: \n\nSkole- og barnehageansatte\nHelsepersonell\nArbeidsgivere\nTeknikere\nBrukere\, pårørende og assistenter\n\n  \nPraktisk informasjon:\n\nGratis inngang\nLunsj til alle påmeldte\n\nVelkommen til en dag full av inspirasjon og nyttig informasjon! \nLast ned invitasjon
URL:https://hjelpemidler.varodd.no/arrangement/midt-norsk-hjelpemiddelmesse/
LOCATION:Utleirahallen\, Utleirvegen 99\, Trondheim\, 7036\, Norway
CATEGORIES:Messe
ATTACH;FMTTYPE=image/jpeg:https://d38vpb7vfo5r61.cloudfront.net/wp-content/uploads/2025/01/27090311/Midt-Norsk-hjelpemiddelmesse.jpg
END:VEVENT
BEGIN:VEVENT
DTSTART;TZID=Europe/Oslo:20250527T100000
DTEND;TZID=Europe/Oslo:20250527T160000
DTSTAMP:20260422T185038
CREATED:20250422T110428Z
LAST-MODIFIED:20250422T113109Z
UID:9326-1748340000-1748361600@hjelpemidler.varodd.no
SUMMARY:Messe: Bodø
DESCRIPTION:Hva: Flere leverandører har også i år gått sammen om en felles fagdag med produktgjennomgang av diverse tekniske hjelpemidler. Messen arrangeres av Nav Hjelpemiddelsentral Nordland i samarbeid med Nord-Norsk Hjelpemiddelmesse. Er du ergoterapeut\, fysioterapeut\, hjelpemiddeltekniker\, fra pleie og omsorg eller annet – da er det bare å ta turen innom vår fagdag og la deg inspirere. \nNår: tirsdag 27. mai 2025\, kl. 10:00-16:00 \nHvor: Bodø Spektrum (Plassmyrveien 11\, 8008 Bodø) \nPris: gratis inngang (ingen påmelding) \n  \nSe arrangementet på Facebook
URL:https://hjelpemidler.varodd.no/arrangement/messe-bodo-3/
LOCATION:Bodø spektrum\, Plassmyrveien 11\, Bodø\, 8008\, Norge
CATEGORIES:Messe
ATTACH;FMTTYPE=image/png:https://d38vpb7vfo5r61.cloudfront.net/wp-content/uploads/2025/04/22130359/Hjelpemiddelmesse-Bodo-mai-2025.png
END:VEVENT
END:VCALENDAR