BEGIN:VCALENDAR
VERSION:2.0
PRODID:-//Varodd Velferdsteknologi - ECPv6.15.20//NONSGML v1.0//EN
CALSCALE:GREGORIAN
METHOD:PUBLISH
X-ORIGINAL-URL:https://hjelpemidler.varodd.no
X-WR-CALDESC:Arrangement for Varodd Velferdsteknologi
REFRESH-INTERVAL;VALUE=DURATION:PT1H
X-Robots-Tag:noindex
X-PUBLISHED-TTL:PT1H
BEGIN:VTIMEZONE
TZID:Europe/Oslo
BEGIN:DAYLIGHT
TZOFFSETFROM:+0100
TZOFFSETTO:+0200
TZNAME:CEST
DTSTART:20240331T010000
END:DAYLIGHT
BEGIN:STANDARD
TZOFFSETFROM:+0200
TZOFFSETTO:+0100
TZNAME:CET
DTSTART:20241027T010000
END:STANDARD
BEGIN:DAYLIGHT
TZOFFSETFROM:+0100
TZOFFSETTO:+0200
TZNAME:CEST
DTSTART:20250330T010000
END:DAYLIGHT
BEGIN:STANDARD
TZOFFSETFROM:+0200
TZOFFSETTO:+0100
TZNAME:CET
DTSTART:20251026T010000
END:STANDARD
BEGIN:DAYLIGHT
TZOFFSETFROM:+0100
TZOFFSETTO:+0200
TZNAME:CEST
DTSTART:20260329T010000
END:DAYLIGHT
BEGIN:STANDARD
TZOFFSETFROM:+0200
TZOFFSETTO:+0100
TZNAME:CET
DTSTART:20261025T010000
END:STANDARD
END:VTIMEZONE
BEGIN:VEVENT
DTSTART;TZID=Europe/Oslo:20250828T100000
DTEND;TZID=Europe/Oslo:20250828T153000
DTSTAMP:20260422T140023
CREATED:20220215T091247Z
LAST-MODIFIED:20241212T104753Z
UID:2473-1756375200-1756395000@hjelpemidler.varodd.no
SUMMARY:Messe: Hamar
DESCRIPTION:Hva: Innlandsmessa 2025 inviterer til en spennende dag i Hamar\, som finner sted torsdag 28. august i Vikingskipet. Arrangert av Innlandsmessa AS på vegne av ledende leverandører\, gir messen deg muligheten til å utforske det nyeste innen hjelpemidler. Her presenteres løsninger innen bevegelseshjelpemidler\, løft og forflytning\, hygiene\, IKT\, samt syn- og hørselsassistanse. \nNår: torsdag 28. august 2025\, kl. 10:00-15:30 \nHvor: Vikingskipet (Åkersvikvegen 1\, 2321 Hamar) \nPris: gratis inngang (åpen for publikum) \n 
URL:https://hjelpemidler.varodd.no/arrangement/messe-hamar/
LOCATION:Vikingskipet\, Åkersvikvegen 1\, Hamar\, 2321\, Norge
CATEGORIES:Messe
ATTACH;FMTTYPE=image/jpeg:https://d38vpb7vfo5r61.cloudfront.net/wp-content/uploads/2022/02/12101840/Innlandsmessa-2025.jpg
END:VEVENT
END:VCALENDAR